Workbook

Sheet Accueil
A1: V_20/10/2022 | B1: Tableur récapitulatif de la méthode Haies
B18: Tableur devant impérativement être rempli et transmis dans le cadre des projets Haies. Les projets individuels ne remplissent qu'une ligne par onglet. En cas de remplissage partiel ou erroné, le projet ne sera pas recevable en l'état, et des modifications seront demandées par le service instructeur. À la notification du projet : seules les cases oranges de l'onglet "Général" peuvent être renseignées. Au dépôt du projet, les onglets "Général", "Types de haies et gestion", "Co-bénéfices" doivent être entièrement remplis par le demandeur. Les données à reporter dans la procédure Démarches Simplifiées se trouvent dans l'onglet récapitulatif.

Sheet Général
B1: Nombre de structures (exploitations agricoles, entreprises, collectivités…) concernées par le projet : | H1: =COUNTA(B:B)-2 -> 11
A3: Numéro de sous-projet | B3: Nom de la structure | C3: Adresse | D3: Nom de la commune | E3: Code postal de la commune | F3: Numéro de département | G3: Nom de région | H3: SIRET | I3: Statut de la structure | J3: NOM Prénom du chef d'exploitation ou propriétaire ou locataire | K3: Surface concernée par le projet | L3: Essences plantées | M3: Essences adaptées localement, dans le climat futur, non invasives pour les plantations et regarnissage, diversité des essences | N3: Date de réalisation du plan de gestion durable des haies, ou de sa mise à jour | O3: MAEC contractualisé sur le linéaire de haies ? NB : Si des MAEC sont contractualisées sur l’exploitation, le linéaire concerné devra être identifié sur le PGDH et ne sera pas éligible | P3: Stockage de carbone additionnel (kgCO2eq/an) : cf tableur de calcul | Q3: Empreinte (optionnel) (kgCO2eq/an) : cf tableur de calcul | R3: Commentaires
A4: 1 | B4: GAEC DU DORE | C4: 710 la Noue Girou | D4: LE PUISET DORE, MONTREVAULT SUR EVRE | E4: 49110 | F4: 49 | G4: Pays de la Loire | H4: 94080833000010 | I4: GAEC | J4: TERRIEN Xavier et Sébastien | K4: 175.8 | L4: Chêne sessile, érable champêtre, alisier torminal, merisier, charme, prunellier, aubépine monogyne, troène commun, néflier | M4: oui | N4: 45960 | O4: Non | P4: 57638.444 | Q4: 38149.157
A5: 2 | B5: Guillaume Goussin | C5: 7 Les Marottières | D5: Bourgneuf-en-Mauges, MAUGES SUR LOIRE | E5: 49620 | F5: 49 | G5: Pays de la Loire | H5: 84237184100029 | I5: Entreprise individuelle | J5: GOUSSIN Guillaume | K5: 25.6 | L5: Chêne sessile, chêne chevelu, érable champêtre, charme, cornouiller sanguin, troène commun | M5: oui | N5: 45965 | O5: Non | P5: 9455.3405 | Q5: 8333.3194
A6: 3 | B6: FARDEAU NADEGE | C6: La Chênebaudière | D6: CHAMPTOCEAUX, OREE D'ANJOU | E6: 49270 | F6: 49 | G6: Pays de la Loire | H6: 83423280300033 | I6: Entreprise individuelle | J6: FARDEAU Nadège | K6: 89 | L6: Chêne sessile, érable champêtre, alisier torminal, merisier, charme, prunellier, aubépine monogyne, troène commun, néflier | M6: oui | N6: 45967 | O6: Non | P6: 24190.378 | Q6: 13116.521
A7: 4 | B7: GAEC LEBLOIS | C7: 4 La Grande Chaise | D7: VALANJOU, CHEMILLE EN ANJOU | E7: 49670 | F7: 49 | G7: Pays de la Loire | H7: 39328989700018 | I7: GAEC | J7: LEBLOIS Adrien | K7: 188 | L7: à déterminer | M7: oui | O7: Non | P7: 30946.433 | Q7: 16177.66
A8: 5 | B8: EARL DU RELAIS | C8: 4 Les Noncelleries | D8: CHEMILLE EN ANJOU | E8: 49120 | F8: 49 | G8: Pays de la Loire | H8: 41192125700019 | I8: EARL | J8: MENARD Matthieu | K8: 82 | L8: à déterminer | M8: oui | N8: 46008 | O8: Non | P8: 18517.272 | Q8: 3336.3204
A9: 6 | B9: GAEC QUIGNON | C9: 15 L’EPINAY DE GONNORD | D9: CHEMILLE EN ANJOU | E9: 49670 | F9: 49 | G9: Pays de la Loire | H9: 43774044200011 | I9: GAEC | J9: QUIGNON Alexis | K9: 152 | L9: non concerné | M9: oui | N9: 46029 | O9: Non | P9: 29584.252 | Q9: 19768.828 | R9: les valeurs de sotckage carbone et empreinte sont correctes, le fichier Document n'était pas le bon, il a été remplacé
A10: 7 | B10: GAEC Laitouche | C10: Les Grandes Touches | D10: St Georges /Loire | E10: 49170 | F10: 49 | G10: Pays de la Loire | I10: GAEC | J10: HERGUAIS Matthieu | K10: 281 | L10: Charme commun, Erable champêtre, Cornouiller sanguin, Prunellier, Troène | M10: oui | N10: 46072 | O10: Non | P10: 66825.793 | Q10: 17636.34
A11: 8 | B11: GAEC Bocalim | C11: Le Cou Chapon | D11: TREIZE VENTS | E11: 85590 | F11: 85 | G11: Pays de la Loire | H11: 84939775700014 | I11: GAEC | J11: TRICOT Jean-François | K11: 516 | L11: Chêne sessile, orme lutèce, érable champêtre, aubépine, monogyne, prunellier | M11: oui | N11: 46163 | O11: non | P11: 94275.452 | Q11: 93352.774
A12: 9 | B12: EI Bureau Olivier | C12: Le Bordage | D12: LAVARE | E12: 72390 | F12: 72 | G12: Pays de la Loire | H12: 49997463200030 | I12: Entreprise individuelle | J12: BUREAU Olivier | K12: 48.2 | L12: Erable champêtre, Orme vada, Charme commun, Tilleul à petites feuilles, Alisier torminal, Troène commun, Cornouiller sanguin, Houx, Néflier | M12: oui | N12: 45961 | O12: Non | P12: 15242 | Q12: 10078.787 | R12: Le plan de gestion a été réalisé au nom du GAEC des 2 chênes, qui a été modifié en EI Bureau Olivier à la suite du départ en retraite d'un associé. Le parcellaire ne change pas.
A13: 10 | B13: Sophie Ammann | C13: Le chêne | D13: CORMES | E13: 72400 | F13: 72 | G13: Pays de la Loire | H13: 53139260300027 | I13: Entreprise individuelle | J13: AMMANN Sophie | K13: 22 | L13: à déterminer | M13: oui | N13: 46010 | O13: Non | P13: 8318 | Q13: 2728.3592
A14: 11 | B14: EARL la Ferme du Grand Pin | C14: 1 LIEU DIT LE GRAND PIN | D14: Mont-Saint-Jean | E14: 72140 | F14: 72 | G14: Pays de la Loire | H14: 92305813500016 | I14: EARL | J14: Lecarçon Simon | K14: 126 | L14: à déterminer | M14: oui | N14: 45961 | O14: Non | P14: 41169 | Q14: 29636.031
A15: 12
A16: 13
A17: 14
A18: 15
A19: 16
A20: 17
A21: 18
A22: 19
A23: 20
A24: 21
A25: 22
A26: 23
... A550: 547

Sheet Types de haies et gestion
A1: Types de haies et itinéraires de gestion : remplir avec le linaire (en m) ou laisser vide
B3: Types de haies | H3: Itinéraires de gestion
A4: Numéro de sous-projet | B4: Haie pluristrate | C4: Haie de futaies | D4: Haie de taillis | E4: Haie arbustive | F4: Haie relictuelle | G4: Haie de colonisation | H4: Plantation sur sol sans arbre (haie périphérique) | I4: Plantation sur haie de colonisation | J4: Enrichissement de haies dégradées ou relictuelles | K4: Amélioration de haies en conversion | L4: Amélioration de la gestion de haies en place | M4: Total linéaire (sans plantation) | N4: Total linéaire avec plantation | O4: Total itinéraires de gestion | P4: Commentaires
A5: Total | B5: =SUM(B6:B1000) -> 115128.5 | C5: =SUM(C6:C1000) -> 3614 | D5: =SUM(D6:D1000) -> 47275.5 | E5: =SUM(E6:E1000) -> 12994.5 | F5: =SUM(F6:F1000) -> 416 | G5: =SUM(G6:G1000) -> 13126 | H5: =SUM(H6:H1000) -> 9482 | I5: =SUM(I6:I1000) -> 13126 | ... L5: =SUM(L6:L1000) -> 115128.5 | M5: =SUM(B5:G5) -> 192554.5 | N5: =Tableau2256[[#This Row],[Total linéaire (sans plantation)]]+Tableau2256[[#This Row],[Plantation sur sol sans arbre (haie périphérique)]] -> 202036.5 | O5: =SUM(H5:L5) -> 202036.5
A6: 1 | B6: 7869 | C6: 161 | D6: 929 | E6: 387 | F6: 0 | G6: 3648.5 | H6: 2870 | I6: 3648.5 | J6: 0 | K6: 1477 | L6: 7869 | M6: =SUM(B6:G6) -> 12994.5 | N6: =Tableau2256[[#This Row],[Total linéaire (sans plantation)]]+Tableau2256[[#This Row],[Plantation sur sol sans arbre (haie périphérique)]] -> 15864.5 | O6: =SUM(H6:L6) -> 15864.5
A7: 2 | B7: 1386 | C7: 0 | D7: 230 | E7: 0 | F7: 0 | G7: 1202 | H7: 21 | I7: 1202 | J7: 0 | K7: 230 | L7: 1386 | M7: =SUM(B7:G7) -> 2818 | N7: =Tableau2256[[#This Row],[Total linéaire (sans plantation)]]+Tableau2256[[#This Row],[Plantation sur sol sans arbre (haie périphérique)]] -> 2839 | O7: =SUM(H7:L7) -> 2839 | P7: plan de gestion réalisé dans le cadre d'un projet pour l'amélioration de la qualité de l'eau sur le bassin versant
A8: 3 | B8: 7957 | C8: 423 | D8: 461 | E8: 707 | F8: 0 | G8: 92 | H8: 1335 | I8: 92 | J8: 0 | K8: 1591 | L8: 7957 | M8: =SUM(B8:G8) -> 9640 | N8: =Tableau2256[[#This Row],[Total linéaire (sans plantation)]]+Tableau2256[[#This Row],[Plantation sur sol sans arbre (haie périphérique)]] -> 10975 | O8: =SUM(H8:L8) -> 10975
A9: 4 | B9: 8765.5 | C9: 1089 | D9: 7993 | E9: 502 | F9: 184 | G9: 352.5 | H9: 135 | I9: 352.5 | J9: 184 | K9: 9584 | L9: 8765.5 | M9: =SUM(B9:G9) -> 18886 | N9: =Tableau2256[[#This Row],[Total linéaire (sans plantation)]]+Tableau2256[[#This Row],[Plantation sur sol sans arbre (haie périphérique)]] -> 19021 | O9: =SUM(H9:L9) -> 19021
A10: 5 | B10: 3493.5 | C10: 248 | D10: 4210 | E10: 512 | F10: 94 | G10: 576 | H10: 135 | I10: 576 | J10: 94 | K10: 4970 | L10: 3493.5 | M10: =SUM(B10:G10) -> 9133.5 | N10: =Tableau2256[[#This Row],[Total linéaire (sans plantation)]]+Tableau2256[[#This Row],[Plantation sur sol sans arbre (haie périphérique)]] -> 9268.5 | O10: =SUM(H10:L10) -> 9268.5
A11: 6 | B11: 8538 | C11: 182 | D11: 3798.5 | E11: 3425.5 | F11: 63 | G11: 844 | H11: 0 | I11: 844 | J11: 63 | K11: 7406 | L11: 8538 | M11: =SUM(B11:G11) -> 16851 | N11: =Tableau2256[[#This Row],[Total linéaire (sans plantation)]]+Tableau2256[[#This Row],[Plantation sur sol sans arbre (haie périphérique)]] -> 16851 | O11: =SUM(H11:L11) -> 16851
A12: 7 | B12: 14132 | C12: 319 | D12: 18490.5 | E12: 2490 | F12: 75 | G12: 1440.5 | H12: 656 | I12: 1440.5 | J12: 75 | K12: 21299.5 | L12: 14132 | M12: =SUM(B12:G12) -> 36947 | N12: =Tableau2256[[#This Row],[Total linéaire (sans plantation)]]+Tableau2256[[#This Row],[Plantation sur sol sans arbre (haie périphérique)]] -> 37603 | O12: =SUM(H12:L12) -> 37603
A13: 8 | B13: 49744 | C13: 990 | D13: 5821.5 | E13: 4748 | F13: 0 | G13: 1793 | H13: 1955 | I13: 1793 | J13: 0 | K13: 11559.5 | L13: 49744 | M13: =SUM(B13:G13) -> 63096.5 | N13: =Tableau2256[[#This Row],[Total linéaire (sans plantation)]]+Tableau2256[[#This Row],[Plantation sur sol sans arbre (haie périphérique)]] -> 65051.5 | O13: =SUM(H13:L13) -> 65051.5
A14: 9 | B14: 1153.5 | C14: 0 | D14: 1685 | E14: 53 | F14: 0 | G14: 871 | H14: 555 | I14: 871 | J14: 0 | K14: 1738 | L14: 1153.5 | M14: =SUM(B14:G14) -> 3762.5 | N14: =Tableau2256[[#This Row],[Total linéaire (sans plantation)]]+Tableau2256[[#This Row],[Plantation sur sol sans arbre (haie périphérique)]] -> 4317.5 | O14: =SUM(H14:L14) -> 4317.5
A15: 10 | B15: 1241.5 | C15: 0 | D15: 692 | E15: 38 | F15: 0 | G15: 740 | H15: 163 | I15: 740 | J15: 0 | K15: 730 | L15: 1241.5 | M15: =SUM(B15:G15) -> 2711.5 | N15: =Tableau2256[[#This Row],[Total linéaire (sans plantation)]]+Tableau2256[[#This Row],[Plantation sur sol sans arbre (haie périphérique)]] -> 2874.5 | O15: =SUM(H15:L15) -> 2874.5
A16: 11 | B16: 10848.5 | C16: 202 | D16: 2965 | E16: 132 | F16: 0 | G16: 1566.5 | H16: 1657 | I16: 1566.5 | J16: 0 | K16: 3299 | L16: 10848.5 | M16: =SUM(B16:G16) -> 15714 | N16: =Tableau2256[[#This Row],[Total linéaire (sans plantation)]]+Tableau2256[[#This Row],[Plantation sur sol sans arbre (haie périphérique)]] -> 17371 | O16: =SUM(H16:L16) -> 17371
A17: 12 | M17: =SUM(B17:G17) -> 0 | N17: =Tableau2256[[#This Row],[Total linéaire (sans plantation)]]+Tableau2256[[#This Row],[Plantation sur sol sans arbre (haie périphérique)]] -> 0 | O17: =SUM(H17:L17) -> 0
A18: 13 | M18: =SUM(B18:G18) -> 0 | N18: =Tableau2256[[#This Row],[Total linéaire (sans plantation)]]+Tableau2256[[#This Row],[Plantation sur sol sans arbre (haie périphérique)]] -> 0 | O18: =SUM(H18:L18) -> 0
A19: 14 | M19: =SUM(B19:G19) -> 0 | N19: =Tableau2256[[#This Row],[Total linéaire (sans plantation)]]+Tableau2256[[#This Row],[Plantation sur sol sans arbre (haie périphérique)]] -> 0 | O19: =SUM(H19:L19) -> 0
A20: 15 | M20: =SUM(B20:G20) -> 0 | N20: =Tableau2256[[#This Row],[Total linéaire (sans plantation)]]+Tableau2256[[#This Row],[Plantation sur sol sans arbre (haie périphérique)]] -> 0 | O20: =SUM(H20:L20) -> 0
A21: 16 | M21: =SUM(B21:G21) -> 0 | N21: =Tableau2256[[#This Row],[Total linéaire (sans plantation)]]+Tableau2256[[#This Row],[Plantation sur sol sans arbre (haie périphérique)]] -> 0 | O21: =SUM(H21:L21) -> 0
A22: 17 | M22: =SUM(B22:G22) -> 0 | N22: =Tableau2256[[#This Row],[Total linéaire (sans plantation)]]+Tableau2256[[#This Row],[Plantation sur sol sans arbre (haie périphérique)]] -> 0 | O22: =SUM(H22:L22) -> 0
A23: 18 | M23: =SUM(B23:G23) -> 0 | N23: =Tableau2256[[#This Row],[Total linéaire (sans plantation)]]+Tableau2256[[#This Row],[Plantation sur sol sans arbre (haie périphérique)]] -> 0 | O23: =SUM(H23:L23) -> 0
A24: 19 | M24: =SUM(B24:G24) -> 0 | N24: =Tableau2256[[#This Row],[Total linéaire (sans plantation)]]+Tableau2256[[#This Row],[Plantation sur sol sans arbre (haie périphérique)]] -> 0 | O24: =SUM(H24:L24) -> 0
A25: 20 | M25: =SUM(B25:G25) -> 0 | N25: =Tableau2256[[#This Row],[Total linéaire (sans plantation)]]+Tableau2256[[#This Row],[Plantation sur sol sans arbre (haie périphérique)]] -> 0 | O25: =SUM(H25:L25) -> 0
A26: 21 | M26: =SUM(B26:G26) -> 0 | N26: =Tableau2256[[#This Row],[Total linéaire (sans plantation)]]+Tableau2256[[#This Row],[Plantation sur sol sans arbre (haie périphérique)]] -> 0 | O26: =SUM(H26:L26) -> 0
A27: 22 | M27: =SUM(B27:G27) -> 0 | N27: =Tableau2256[[#This Row],[Total linéaire (sans plantation)]]+Tableau2256[[#This Row],[Plantation sur sol sans arbre (haie périphérique)]] -> 0 | O27: =SUM(H27:L27) -> 0
A28: 23 | M28: =SUM(B28:G28) -> 0 | N28: =Tableau2256[[#This Row],[Total linéaire (sans plantation)]]+Tableau2256[[#This Row],[Plantation sur sol sans arbre (haie périphérique)]] -> 0 | O28: =SUM(H28:L28) -> 0
... A552: 547 | M552: =SUM(B552:G552) -> 0 | N552: =Tableau2256[[#This Row],[Total linéaire (sans plantation)]]+Tableau2256[[#This Row],[Plantation sur sol sans arbre (haie périphérique)]] -> 0 | O552: =SUM(H552:L552) -> 0

Sheet Co-bénéfices
C2: Tableau des co-bénéfices : sélectionner le nombre de points pour chaque co-bénéfice et chaque exploitation
C4: LABEL HAIE | D4: ENVIRONNEMENT | O4: SOCIO-ECONOMIQUE
B5: Description | C5: Engagement dans le Label haie : niveau 1 à minima en année 1, niveau 2 en année 5 et niveau 3 en année 10. | D5: Utilisation de végétaux locaux prélevés dans la région biogéographique adaptés aux climats actuel et futur (en pourcentage) | E5: Haies présentes dans les territoires à enjeux | F5: Le plan de gestion tient compte des corridors écologiques (dans les corridors : plantation ou type cible en pluristrate) | G5: Augmentation de la part des haies pluristrates | H5: Augmentation de la densité initiale | I5: Densité supérieure à la densité moyenne du territoire (données PAC départementale) Engagement de plantation si inférieur | J5: Présence d’arbres morts | K5: Préservation d’essences d’intérêt pour la biodiversité (faible croissance) | L5: Amélioration de l’indice de biodiversité | M5: Le plan de gestion tient compte de la circulation hydraulique, des plantations sont proposées perpendiculaires à la pente | N5: Le plan de gestion comprend des haies sur talus | O5: Le plan de gestion tient compte du PLUi | P5: Vente de produits bois à une entreprise/collectivité dans un rayon de 50 km autour du siège de la structure | Q5: La majorité des entreprises de travaux agricoles/forestiers (ETA/F) retenues pour la plantation, la gestion des haies sont situées dans un rayon de 50 km autour du siège de la structure | R5: Entreprises de réinsertion professionnelle ou d'aide à l'emploi de personnes en situation de handicap privilégiées | S5: Commentaires
B6: Indicateur | C6: Engagement oui/non | D6: Plus de 20 % des plants issus de cette marque sur les opérations de plantation | E6: % du linéaire se trouvant dans une zone à enjeu | F6: % de linéaire des haies dans la zone de trame verte | G6: % de haies pluristrates | H6: Densité (linéaire de haies/SAU) | I6: Densité (linéaire de haies/SAU) | J6: Nombre d’arbres morts conservés | K6: Maintien ou augmentation du nombre présent | L6: Indice de biodiversité adapté à la haie intégrant le maillage | M6: % de linéaire de haies perpendiculaire à la pente et % de haies plantées perpendiculaire à la pente | N6: % de linéaire de haies sur talus et % de haies plantées sur talus | O6: % de haies inscrites au PLUi | P6: Quantité de bois vendue dans une filière locale | Q6: % des entreprises intervenant sur la haie provenant venant de moins de 50 km autour du siège de la structure | R6: Une partie des travaux sera réalisée par des entreprises de réinsertion professionnelle ou d'aide à l'emploi de personnes en situation de handicap
B7: Justificatif | C7: Document d'engagement ou de certification du Label Haie | D7: Facture | E7: Juxtaposition de cartographies PGDH et Zonage | F7: Juxtaposition de cartographies PGDH et Zonage PLU ou SCOT | G7: PGDH | H7: PGDH (linéaire de haies) et déclaration PAC ou MSA (SAU) | I7: PGDH (linéaire de haies) et déclaration PAC ou MSA (SAU) | J7: Visite terrain auditeur n+5 | K7: Compte rendu de visite | L7: Compte rendu de visite | M7: PGDH | N7: PGDH | O7: Juxtaposition de cartographies PGDH et PLUi | P7: Factures | Q7: Factures | R7: Factures
B8: Note | C8: Si OUI : 20 points | D8: Si plus de 20% : 3 points et +1 point par tranche de 10% | E8: Si OUI : 5 points | F8: Si OUI : 5 points | G8: Si OUI : 2 points | H8: Si OUI : 2 points | I8: Si OUI : 5 points | J8: Si OUI : 2 points | K8: Si OUI : 2 points | L8: Si OUI : 5 points | M8: Si OUI : 5 points | N8: Si OUI : 4 points | O8: Si OUI : 2 points | P8: Si OUI : 3 points | Q8: Si OUI : 3 points | R8: Si OUI : 4 points
B9: 1 | E9: 5 | G9: 2 | H9: 2 | M9: 5 | S9: Des haies présentes dans une ZNIEFF 1 (n° 520220030). 23% des haies présentent un intérêt pour la gestion de l'eau
B10: 2 | E10: 0 | G10: 2 | H10: 2 | M10: 5 | S10: 39% des haies avec un intérêt pour la gestion de l'eau
B11: 3 | E11: 0 | G11: 2 | H11: 2 | M11: 5 | S11: 34% des haies présentent un intérêt pour la gestion de l'eau
B12: 4 | E12: 0 | G12: 2 | H12: 2 | M12: 5 | S12: 15% du linéaire possède un intérêt pour la gestion de l'eau
B13: 5 | E13: 0 | G13: 2 | H13: 2 | M13: 5 | S13: 18% des haies représentent un intérêt pour la gestion de l'eau
B14: 6 | E14: 0 | G14: 2 | H14: 0 | M14: 5 | S14: 10% du linéaire possède un intérêt pour la gestion de l'eau
B15: 7 | E15: 5 | G15: 2 | H15: 2 | M15: 5 | S15: ZNIEFF de type II,périmètre de protection rapprochée de captage, 31% du linéaire possède un intérêt pour la gestion de l'eau
B16: 8 | E16: 5 | G16: 2 | H16: 2 | M16: 5 | S16: ZNIEFF de type I et II, zone d'alimentation de captage, 29% du linéaire comporte un intérêt pour la gestion de l'eau
B17: 9 | E17: 0 | G17: 2 | H17: 2 | M17: 5 | S17: 4% des haies représentent un intérêt pour la gestion de l'eau
B18: 10 | E18: 5 | G18: 2 | H18: 2 | M18: 5 | S18: Des haies sont protégées par le PLU au titer de leur intérêt hydraulique, une partie des haies sont dans le PNR du Perche, 25% des haies avec un intérêt pour la gestion de l'eau
B19: 11 | E19: 0 | G19: 2 | H19: 2 | S19: 36% des haies représentent un intérêt pour la gestion de l'eau
B20: 12
B21: 13
B22: 14
B23: 15
B24: 16
B25: 17
B26: 18
B27: 19
B28: 20
B29: 21
B30: 22
B31: 23
... B555: 547

Sheet Récapitulatif
B2: CO-BENEFICES | G2: REDUCTIONS D'EMISSIONS
B4: CO-BENEFICES | C4: VALEUR | D4: BAREME | E4: POURCENTAGE | G4: REDUCTIONS D'EMISSIONS | J4: VALEUR
B5: Label Haie | C5: =(SUM('Co-bénéfices'!C:C))/Général!H1 -> 0 | D5: /20 | E5: =C5/20 -> 0 | G5: Total de RE stockage (en kgCO2eq) sur 5 ans | J5: =SUM(Général!P:P)*5 -> 1980811.8
B6: Environnement | C6: =(SUM('Co-bénéfices'!D:D,'Co-bénéfices'!E:E, 'Co-bénéfices'!F:F,'Co-bénéfices'!G:G,'Co-bénéfices'!H:H,'Co-bénéfices'!I:I,'Co-bénéfices'!J:J,'Co-bénéfices'!K:K,'Co-bénéfices'!L:L,'Co-bénéfices'!M:M,'Co-bénéfices'!N:N))/(Général!H1) -> 10.181818 | D6: /48 | E6: =C6/48 -> 0.21212121 | G6: Total de RE empreinte (optionnel) (en kgCO2eq) sur 5 ans | J6: =SUM(Général!Q:Q)*5 -> 1261570.5
B7: Socio-économique | C7: =(SUM('Co-bénéfices'!O:O,'Co-bénéfices'!P:P,'Co-bénéfices'!Q:Q,'Co-bénéfices'!R:R))/(Général!H1) -> 0 | D7: /12 | E7: =C7/12 -> 0 | G7: TOTAL DE RE (en kgCO2eq) sur 5 ans | J7: =SUM(J5:J6) -> 3242382.3
B10: HAIES ET GESTION
C12: HAIES ET GESTION | D12: NB DE SOUS-PROJET | E12: MOBILISE DANS LE PROJET | F12: TOTAL LINEAIRE (m) | G12: PROPORTION
B13: Types de haies | C13: Haie pluristrate | D13: =COUNTA('Types de haies et gestion'!B6:B601) -> 11 | E13: =IF(D13<>0, "OUI","") -> OUI | F13: ='Types de haies et gestion'!B5 -> 115128.5 | G13: =F13/'Types de haies et gestion'!M5 -> 0.59790085
C14: Haie de futaies | D14: =COUNTA('Types de haies et gestion'!C6:C601) -> 11 | E14: =IF(D14<>0, "OUI","") -> OUI | F14: ='Types de haies et gestion'!C5 -> 3614 | G14: =F14/'Types de haies et gestion'!M5 -> 0.018768712
C15: Haie de taillis | D15: =COUNTA('Types de haies et gestion'!D6:D601) -> 11 | E15: =IF(D15<>0, "OUI","") -> OUI | F15: ='Types de haies et gestion'!D5 -> 47275.5 | G15: =F15/'Types de haies et gestion'!M5 -> 0.2455175
C16: Haie arbustive | D16: =COUNTA('Types de haies et gestion'!E6:E601) -> 11 | E16: =IF(D16<>0, "OUI","") -> OUI | F16: ='Types de haies et gestion'!E5 -> 12994.5 | G16: =F16/'Types de haies et gestion'!M5 -> 0.06748479
C17: Haie relictuelle | D17: =COUNTA('Types de haies et gestion'!F6:F601) -> 11 | E17: =IF(D17<>0, "OUI","") -> OUI | F17: ='Types de haies et gestion'!F5 -> 416 | G17: =F17/'Types de haies et gestion'!M5 -> 0.0021604273
C18: Haie de colonisation | D18: =COUNTA('Types de haies et gestion'!G6:G601) -> 11 | E18: =IF(D18<>0, "OUI","") -> OUI | F18: ='Types de haies et gestion'!G5 -> 13126 | G18: =F18/'Types de haies et gestion'!M5 -> 0.068167714
B19: Types de gestion | C19: Plantation sur sol sans arbre (haie périphérique) | D19: =COUNTA('Types de haies et gestion'!H6:H601) -> 11 | E19: =IF(D19<>0, "OUI","") -> OUI | F19: ='Types de haies et gestion'!H5 -> 9482 | G19: =F19/'Types de haies et gestion'!O5 -> 0.046932114
C20: Plantation sur haie de colonisation | D20: =COUNTA('Types de haies et gestion'!I6:I601) -> 11 | E20: =IF(D20<>0, "OUI","") -> OUI | F20: ='Types de haies et gestion'!I5 -> 13126 | G20: =F20/'Types de haies et gestion'!O5 -> 0.064968459
C21: Enrichissement de haies dégradées ou relictuelles | D21: =COUNTA('Types de haies et gestion'!J6:J601) -> 11 | E21: =IF(D21<>0, "OUI","") -> OUI | F21: ='Types de haies et gestion'!J5 -> 416 | G21: =F21/'Types de haies et gestion'!O5 -> 0.0020590339
C22: Amélioration de haies en conversion | D22: =COUNTA('Types de haies et gestion'!K6:K601) -> 11 | E22: =IF(D22<>0, "OUI","") -> OUI | F22: ='Types de haies et gestion'!K5 -> 63884 | G22: =F22/'Types de haies et gestion'!O5 -> 0.31620029
C23: Amélioration de la gestion de haies en place | D23: =COUNTA('Types de haies et gestion'!L6:L601) -> 11 | E23: =IF(D23<>0, "OUI","") -> OUI | F23: ='Types de haies et gestion'!L5 -> 115128.5 | G23: =F23/'Types de haies et gestion'!O5 -> 0.5698401

Sheet données-listes
A1: Oui | C1: Statut de la structure | F1: Numéro de département | G1: Département | H1: Région | J1: Régions
A2: Non | C2: EARL | F2: 01 | G2: Ain | H2: Auvergne-Rhône-Alpes | J2: Auvergne-Rhône-Alpes
A3: Non concerné | C3: GAEC | F3: 02 | G3: Aisne | H3: Hauts-de-France | J3: Bourgogne-Franche-Comté
C4: SCEA | F4: 03 | G4: Allier | H4: Auvergne-Rhône-Alpes | J4: Bretagne
A5: Oui | C5: SEP | F5: 04 | G5: Alpes-de-Haute-Provence | H5: Provence-Alpes-Côte d'Azur | J5: Centre-Val de Loire
A6: Non | C6: Individuel | F6: 05 | G6: Hautes-Alpes | H6: Provence-Alpes-Côte d'Azur | J6: Corse
A7: J'ai retiré le linéaire contractualisé dans le projet | C7: Collectivité | F7: 06 | G7: Alpes-Maritimes | H7: Provence-Alpes-Côte d'Azur | J7: Grand Est
C8: Entreprise | F8: 07 | G8: Ardèche | H8: Auvergne-Rhône-Alpes | J8: Hauts-de-France
C9: Association | F9: 08 | G9: Ardennes | H9: Grand Est | J9: Île-de-France
C10: Autre | F10: 09 | G10: Ariège | H10: Occitanie | J10: Normandie
F11: 10 | G11: Aube | H11: Grand Est | J11: Nouvelle-Aquitaine
F12: 11 | G12: Aude | H12: Occitanie | J12: Occitanie
F13: 12 | G13: Aveyron | H13: Occitanie | J13: Pays de la Loire
F14: 13 | G14: Bouches-du-Rhône | H14: Provence-Alpes-Côte d'Azur | J14: Provence-Alpes-Côte d'Azur
A15: X | F15: 14 | G15: Calvados | H15: Normandie | J15: Guadeloupe
F16: 15 | G16: Cantal | H16: Auvergne-Rhône-Alpes | J16: Martinique
F17: 16 | G17: Charente | H17: Nouvelle-Aquitaine | J17: Guyane
A18: Co-bénéfices | F18: 17 | G18: Charente-Maritime | H18: Nouvelle-Aquitaine | J18: La Réunion
A19: 0 | F19: 18 | G19: Cher | H19: Centre-Val de Loire | J19: Mayotte
A20: 3 | F20: 19 | G20: Corrèze | H20: Nouvelle-Aquitaine
A21: 4 | F21: 2A | G21: Corse-du-Sud | H21: Corse
A22: 5 | F22: 2B | G22: Haute-Corse | H22: Corse
A23: 6 | F23: 21 | G23: Côte-d'Or | H23: Bourgogne-Franche-Comté
A24: 7 | F24: 22 | G24: Côtes d'Armor | H24: Bretagne
A25: 8 | F25: 23 | G25: Creuse | H25: Nouvelle-Aquitaine
A26: 9 | F26: 24 | G26: Dordogne | H26: Nouvelle-Aquitaine
A27: 10 | F27: 25 | G27: Doubs | H27: Bourgogne-Franche-Comté
A28: 11 | F28: 26 | G28: Drôme | H28: Auvergne-Rhône-Alpes
A29: 0 | F29: 27 | G29: Eure | H29: Normandie
A30: 20 | F30: 28 | G30: Eure-et-Loir | H30: Centre-Val de Loire
A31: 0 | F31: 29 | G31: Finistère | H31: Bretagne
A32: 5 | F32: 30 | G32: Gard | H32: Occitanie
A33: 0 | F33: 31 | G33: Haute-Garonne | H33: Occitanie
A34: 4 | F34: 32 | G34: Gers | H34: Occitanie
... A38: 2 | F38: 36 | G38: Indre | H38: Centre-Val de Loire
F39: 37 | G39: Indre-et-Loire | H39: Centre-Val de Loire
F40: 38 | G40: Isère | H40: Auvergne-Rhône-Alpes
F41: 39 | G41: Jura | H41: Bourgogne-Franche-Comté
F42: 40 | G42: Landes | H42: Nouvelle-Aquitaine
F43: 41 | G43: Loir-et-Cher | H43: Centre-Val de Loire
...
