Workbook
Name Essence: Paramètres!$A$2:$A$86
Name Essences: Paramètres!$A$2:$A$89
Name Fertilité: Paramètres!$P$10:$P$11
Name Incendie: Paramètres!$P$5:$P$8
Name VAN: Paramètres!$P$2:$P$3

Sheet Accueil
B12: Ce calculateur a été développé par le Centre national de la propriété forestière (CNPF) dans le cadre d'un financement de l'interprofession France Bois Forêt pour l'accompagnement du label Bas-Carbone en 2020 et 2021. Il s'agit du calculateur pour les méthodes "boisement" et "reconstitution de peuplements forestiers dégradés" rédigées par le CNPF, dans leur version 2.
B18: Tout projet demandant le label Bas-Carbone au titre des deux méthodes susmentionnées devra utiliser ce calculateur. Il se compose de 6 onglets : → un onglet "Données projet" qui est le seul onglet dans lequel le Porteur de projet doit renseigner les données inhérentes à son projet. → un onglet "Scénario référence" dans lequel le Porteur de projet choisit la méthode et le scénario de référence utilisés. → un onglet "Calculateur" que le Porteur de projet n'a pas à modifier. → un onglet "Paramètres" que le Porteur de projet n'a pas à modifier (cet onglet sera actualisé au fur et à mesure que des données sourcées permettront de l'améliorer). → un onglet "REE" dans lequel le Porteur de projet doit puiser les résultats des calculs pour les renseigner au Document descriptif de projet. → un onglet "VAN" servant à faire le calcul économique et dont les résultats peuvent être renseignés dans le Document descriptif de projet si le Porteur de projet choisit de démontrer l'additionnalité économique de son projet.

Sheet Données projet
C1: Seules les cellules en jaune pâle sont à remplir
I2: V15/10/2021
B3: SCÉNARIO DE PROJET | I3: * Des corrections ont été apportées pour répondre aux problèmes soulevés pour les essences à durée de révolution courte, ou à première éclaircie tardive,
I4: à la VAN, ainsi que pour laisser la possibilité de noter des commentaires dans les cellules non verrouillées.
A5: La surface du projet | C5: 22.7 | D5: Entrer une surface en hectares
A7: Les essences du projet
B8: Choisir dans le menu déroulant | C8: Proportion | D8: Surface de l'essence | E8: Durée de révolution | F8: Vérification
A9: Essence 1 | B9: Douglas | C9: 0.59 | D9: =C9*$C$5 -> 13.393 | E9: 54 | F9: {=IF(E9="","",IF(INDEX(A:A,MAX(IF(ISNUMBER($A$36:$A$55),ROW($A$36:$A$55),"")))<>E9,"Corrigez : révolution incorrecte","OK"))} -> OK | G9: NB : La durée de révolution doit être identique à la dernière année indiquée dans la table de production renseignée en dessous
A10: Essence 2 | B10: Mélèze d'Europe | C10: 0.26 | D10: =C10*$C$5 -> 5.902 | E10: 80 | F10: {=IF(E10="","",IF(INDEX(A:A,MAX(IF(ISNUMBER($A$62:$A$81),ROW($A$62:$A$81),"")))<>E10,"Corrigez : révolution incorrecte","OK"))} -> OK
A11: Essence 3 | B11: Pin laricio | C11: 0.04 | D11: =C11*$C$5 -> 0.908 | E11: 90 | F11: {=IF(E11="","",IF(INDEX(A:A,MAX(IF(ISNUMBER($A$88:$A$107),ROW($A$88:$A$107),"")))<>E11,"Corrigez : révolution incorrecte","OK"))} -> OK
A12: Essence 4 | B12: Pin sylvestre | C12: 0.03 | D12: =C12*$C$5 -> 0.681 | E12: 100 | F12: {=IF(E12="","",IF(INDEX(A:A,MAX(IF(ISNUMBER($A$114:$A$133),ROW($A$114:$A$133),"")))<>E12,"Corrigez : révolution incorrecte","OK"))} -> OK
A13: Essence 5 | C13: 0 | D13: =C13*$C$5 -> 0 | F13: {=IF(E13="","",IF(INDEX(A:A,MAX(IF(ISNUMBER($A$140:$A$159),ROW($A$140:$A$159),"")))<>E13,"Corrigez : révolution incorrecte","OK"))}
A14: Essence 6 | B14: Aulne glutineux | C14: 0.02 | D14: =C14*$C$5 -> 0.454 | E14: 90 | F14: {=IF(E14="","",IF(INDEX(A:A,MAX(IF(ISNUMBER($A$166:$A$185),ROW($A$166:$A$185),"")))<>E14,"Corrigez : révolution incorrecte","OK"))} -> OK
A15: Essence 7 | B15: Bouleau verruqueux | C15: 0.02 | D15: =C15*$C$5 -> 0.454 | E15: 90 | F15: {=IF(E15="","",IF(INDEX(A:A,MAX(IF(ISNUMBER($A$192:$A$211),ROW($A$192:$A$211),"")))<>E15,"Corrigez : révolution incorrecte","OK"))} -> OK
A16: Essence 8 | B16: Hêtre | C16: 0.02 | D16: =C16*$C$5 -> 0.454 | E16: 150 | F16: {=IF(E16="","",IF(INDEX(A:A,MAX(IF(ISNUMBER($A$218:$A$237),ROW($A$218:$A$237),"")))<>E16,"Corrigez : révolution incorrecte","OK"))} -> OK
A17: Essence 9 | B17: Cormier | C17: 0.01 | D17: =C17*$C$5 -> 0.227 | E17: 131 | F17: {=IF(E17="","",IF(INDEX(A:A,MAX(IF(ISNUMBER($A$244:$A$263),ROW($A$244:$A$263),"")))<>E17,"Corrigez : révolution incorrecte","OK"))} -> OK | G17: Alisier blanc
A18: Essence 10 | B18: Cormier | C18: 0.01 | D18: =C18*$C$5 -> 0.227 | E18: 131 | F18: {=IF(E18="","",IF(INDEX(A:A,MAX(IF(ISNUMBER($A$270:$A$289),ROW($A$270:$A$289),"")))<>E18,"Corrigez : révolution incorrecte","OK"))} -> OK | G18: Sorbier des oiseleurs
B19: TOTAL | C19: =SUM(C9:C18) -> 1 | D19: =SUM(D9:D18) -> 22.7
B20: Vérification | C20: =IF(C19>100%,"Erreur : corrigez","OK") -> OK
A22: Les rabais à appliquer
A24: Rabais 1 | B24: Analyse économique (VAN) | C24: 0 | D24: Indiquer 20 % si absence de calcul de VAN, 0 % sinon
A25: Rabais 2 | B25: Risque de non permanence | C25: 0.1
A26: Rabais 3 | B26: Risque d'incendie | C26: 0.05 | D26: Indiquer 5 %, 10 %, 15 % selon le risque (cf. méthodes), 0 % sinon
A27: Rabais 4 | B27: Classe de fertilité | C27: 0 | D27: Indiquer 10 % si absence de justification de la classe de fertilité, 0 % sinon
A30: Les tables de production
A32: Essence 1 | B32: =IF(B9="","",B9) -> Douglas | D32: NB : Ne remplir qu'avec les années d'éclaircies de la table de production utilisée, ne pas simuler les premières années
B34: AVANT ECLAIRCIE | C34: ECLAIRCIE | E34: VENTILATION PRODUITS BOIS
A35: Age | B35: Volume bois fort (m³/ha) | C35: Numéro d'éclaircie | D35: Volume bois fort prélevé (m³/ha) | E35: % sciages | F35: % panneaux | G35: % papier | H35: % BE | I35: Accroissement courant (m³/ha/an)
A36: 17 | B36: =207.67/1.3 -> 159.74615 | I36: =IFERROR(B36/A36,"") -> 9.3968326
A37: 18 | B37: =237.76/1.3 -> 182.89231 | C37: 1 | D37: =90.07/1.3 -> 69.284615 | F37: 0.5 | G37: 0.5 | I37: =IF(A37<>0,(B37-(B36-D36))/(A37-A36),"") -> 23.146154
A38: 24 | B38: =308.83/1.3 -> 237.56154 | C38: 2 | D38: =55.46/1.3 -> 42.661538 | E38: 0.2 | F38: 0.4 | G38: 0.4 | I38: =IF(A38<>0,(B38-(B37-D37))/(A38-A37),"") -> 20.658974
A39: 30 | B39: =431.43/1.3 -> 331.86923 | C39: 3 | D39: =85.37/1.3 -> 65.669231 | I39: =IF(A39<>0,(B39-(B38-D38))/(A39-A38),"") -> 22.828205
A40: 36 | B40: =524.56/1.3 -> 403.50769 | C40: 4 | D40: =90.09/1.3 -> 69.3 | I40: =IF(A40<>0,(B40-(B39-D39))/(A40-A39),"") -> 22.884615
A41: 42 | B41: =609.34/1.3 -> 468.72308 | C41: 5 | D41: =95.41/1.3 -> 73.392308 | I41: =IF(A41<>0,(B41-(B40-D40))/(A41-A40),"") -> 22.419231
A42: 48 | B42: =682.61/1.3 -> 525.08462 | C42: 6 | D42: =105.73/1.3 -> 81.330769 | I42: =IF(A42<>0,(B42-(B41-D41))/(A42-A41),"") -> 21.625641
A43: 54 | B43: =736.84/1.3 -> 566.8 | C43: 7 | D43: =736.84/1.3 -> 566.8 | I43: =IF(A43<>0,(B43-(B42-D42))/(A43-A42),"") -> 20.507692
I44: =IF(A44<>0,(B44-(B43-D43))/(A44-A43),"")
I45: =IF(A45<>0,(B45-(B44-D44))/(A45-A44),"")
I46: =IF(A46<>0,(B46-(B45-D45))/(A46-A45),"")
I47: =IF(A47<>0,(B47-(B46-D46))/(A47-A46),"")
...

Sheet Scénario référence
B2: SCÉNARIO DE RÉFÉRENCE
B5: Renseignez les surfaces concernées par le ou les scénarios puis choisissez la nature de culture et/ou l'essence de colonisation
B7: % de surface | C7: Méthode boisement | F7: % de surface | G7: Méthode reconstitution
A8: 1 | B8: 0 | C8: Poursuite de la culture agricole | E8: 4 | F8: 1 | G8: Récolte d'une forêt dégradée et colonisation par des accrus (hors Méditerranée)
A9: 2 | B9: 0 | C9: Embroussaillement par colonisation naturelle (hors Méditerranée) | E9: 5 | F9: 0 | G9: Récolte d'une forêt dégradée et colonisation par des accrus en Méditerranée
A10: 3 | B10: 0 | C10: Embroussaillement par colonisation naturelle en Méditerranée | F10: =SUM(F7:F9) -> 1 | G10: =IF(OR(SUM(F8:F9)=0%,SUM(F8:F9)=100%),"OK","ERREUR : corrigez") -> OK
B11: 0 | C11: =IF(OR(SUM(B8:B10)=100%,SUM(B8:B10)=0%),"OK","ERREUR : corrigez") -> OK
C13: → Si scénario 1 : | G13: → Si scénarios 2, 3, 4 ou 5 :
C14: Renseignez les % de surfaces de culture à l'année 0 (en % de la surface totale du projet) | G14: Choisir l'essence de colonisation
B15: % de surface | G15: Feuillus (moyenne)
B16: 0 | C16: Culture agricole
B17: 0 | C17: Prairie
B18: 0 | C18: Verger ou vigne
B19: =SUM(B16:B18) -> 0 | C19: =IF(SUM(B16:B18)=B8,"OK","ERREUR : corrigez ; le total n'est pas égal à celui de la cellule B8") -> OK

Sheet Calculateur
B1: Scénario de référence | I1: =IF('Données projet'!$B$9="","",'Données projet'!$B$9) -> Douglas | AD1: =IF('Données projet'!$B$10="","",'Données projet'!$B$10) -> Mélèze d'Europe | AY1: =IF('Données projet'!$B$11="","",'Données projet'!$B$11) -> Pin laricio | BT1: =IF('Données projet'!$B$12="","",'Données projet'!$B$12) -> Pin sylvestre | CO1: =IF('Données projet'!$B$13="","",'Données projet'!$B$13) | DJ1: =IF('Données projet'!$B$14="","",'Données projet'!$B$14) -> Aulne glutineux | EE1: =IF('Données projet'!$B$15="","",'Données projet'!$B$15) -> Bouleau verruqueux | EZ1: =IF('Données projet'!$B$16="","",'Données projet'!$B$16) -> Hêtre | FU1: =IF('Données projet'!$B$17="","",'Données projet'!$B$17) -> Cormier | GP1: =IF('Données projet'!$B$18="","",'Données projet'!$B$18) -> Cormier
A2: Année | B2: Biomasse culture (tC/ha) | C2: Biomasse aérienne accrus (tMS/ha) | D2: Biomasse racinaire accrus (tMS/ha) | E2: Sol (tC/ha) | F2: Litière (tC/ha) | G2: Biomasse totale (tCO₂/ha) | H2: Biomasse totale + sol + litière (tCO₂/ha) | I2: Sol (tC/ha) | J2: Litière (tC/ha) | K2: Volume BF (m³/ha) | L2: Accroissement courant (m³/ha/an) | M2: Accroissement courant (m³/ha/an) | N2: Volume BF linéarisé (m³/ha) | O2: Biomasse aérienne (tMS/ha) | P2: Biomasse racinaire (tMS/ha) | Q2: Biomasse totale (tCO₂/ha) | R2: Biomasse totale + sol + litière (tCO₂/ha) | S2: ΔStock moyen de long terme (tCO₂/ha) | T2: Δstock CO₂ 30 ans (tCO₂/ha) | U2: N° coupe | V2: Volume BF éclairci (m³/ha) | W2: % sciages | X2: % panneaux | Y2: % pâte à papier | Z2: Stock sciages (tCO₂/ha) | AA2: Stock panneaux (tCO₂/ha) | AB2: Stocks pâte à papier (tCO₂/ha) | AC2: Stock produits bois (tCO₂/ha) | AD2: Sol (tC/ha) | AE2: Litière (tC/ha) | AF2: Volume BF (m³/ha) | AG2: Accroissement courant (m³/ha/an) | AH2: Accroissement courant (m³/ha/an) | AI2: Volume BF linéarisé (m³/ha) | AJ2: Biomasse aérienne (tMS/ha) | AK2: Biomasse racinaire (tMS/ha) | AL2: Biomasse totale (tCO₂/ha) | AM2: Biomasse totale + sol + litière (tCO₂/ha) | AN2: ΔStock moyen de long terme (tCO₂/ha) | AO2: Δstock CO₂ 30 ans (tCO₂/ha) | AP2: N° coupe | AQ2: Volume BF éclairci (m³/ha) | AR2: % sciages | AS2: % panneaux | AT2: % pâte à papier | AU2: Stock sciages (tCO₂/ha) | AV2: Stock panneaux (tCO₂/ha) | AW2: Stocks pâte à papier (tCO₂/ha) | AX2: Stock produits bois (tCO₂/ha) | AY2: Sol (tC/ha) | AZ2: Litière (tC/ha) | BA2: Volume BF (m³/ha) | BB2: Accroissement courant (m³/ha/an) | BC2: Accroissement courant (m³/ha/an) | BD2: Volume BF linéarisé (m³/ha) | BE2: Biomasse aérienne (tMS/ha) | BF2: Biomasse racinaire (tMS/ha) | BG2: Biomasse totale (tCO₂/ha) | BH2: Biomasse totale + sol + litière (tCO₂/ha) | BI2: ΔStock moyen de long terme (tCO₂/ha) | BJ2: Δstock CO₂ 30 ans (tCO₂/ha) | BK2: N° coupe | BL2: Volume BF éclairci (m³/ha) | BM2: % sciages | BN2: % panneaux | BO2: % pâte à papier | BP2: Stock sciages (tCO₂/ha) | BQ2: Stock panneaux (tCO₂/ha) | BR2: Stocks pâte à papier (tCO₂/ha) | BS2: Stock produits bois (tCO₂/ha) | BT2: Sol (tC/ha) | BU2: Litière (tC/ha) | BV2: Volume BF (m³/ha) | BW2: Accroissement courant (m³/ha/an) | BX2: Accroissement courant (m³/ha/an) | BY2: Volume BF linéarisé (m³/ha) | BZ2: Biomasse aérienne (tMS/ha) | CA2: Biomasse racinaire (tMS/ha) | CB2: Biomasse totale (tCO₂/ha) | CC2: Biomasse totale + sol + litière (tCO₂/ha) | CD2: ΔStock moyen de long terme (tCO₂/ha) | CE2: Δstock CO₂ 30 ans (tCO₂/ha) | CF2: N° coupe | CG2: Volume BF éclairci (m³/ha) | CH2: % sciages | CI2: % panneaux | CJ2: % pâte à papier | CK2: Stock sciages (tCO₂/ha) | CL2: Stock panneaux (tCO₂/ha) | CM2: Stocks pâte à papier (tCO₂/ha) | CN2: Stock produits bois (tCO₂/ha) | CO2: Sol (tC/ha) | CP2: Litière (tC/ha) | CQ2: Volume BF (m³/ha) | CR2: Accroissement courant (m³/ha/an) | CS2: Accroissement courant (m³/ha/an) | CT2: Volume BF linéarisé (m³/ha) | CU2: Biomasse aérienne (tMS/ha) | CV2: Biomasse racinaire (tMS/ha) | CW2: Biomasse totale (tCO₂/ha) | CX2: Biomasse totale + sol + litière (tCO₂/ha) | CY2: ΔStock moyen de long terme (tCO₂/ha) | CZ2: Δstock CO₂ 30 ans (tCO₂/ha) | DA2: N° coupe | DB2: Volume BF éclairci (m³/ha) | DC2: % sciages | DD2: % panneaux | DE2: % pâte à papier | DF2: Stock sciages (tCO₂/ha) | DG2: Stock panneaux (tCO₂/ha) | DH2: Stocks pâte à papier (tCO₂/ha) | DI2: Stock produits bois (tCO₂/ha) | DJ2: Sol (tC/ha) | DK2: Litière (tC/ha) | DL2: Volume BF (m³/ha) | DM2: Accroissement courant (m³/ha/an) | DN2: Accroissement courant (m³/ha/an) | DO2: Volume BF linéarisé (m³/ha) | DP2: Biomasse aérienne (tMS/ha) | DQ2: Biomasse racinaire (tMS/ha) | DR2: Biomasse totale (tCO₂/ha) | DS2: Biomasse totale + sol + litière (tCO₂/ha) | DT2: ΔStock moyen de long terme (tCO₂/ha) | DU2: Δstock CO₂ 30 ans (tCO₂/ha) | DV2: N° coupe | DW2: Volume BF éclairci (m³/ha) | DX2: % sciages | DY2: % panneaux | DZ2: % pâte à papier | EA2: Stock sciages (tCO₂/ha) | EB2: Stock panneaux (tCO₂/ha) | EC2: Stocks pâte à papier (tCO₂/ha) | ED2: Stock produits bois (tCO₂/ha) | EE2: Sol (tC/ha) | EF2: Litière (tC/ha) | EG2: Volume BF (m³/ha) | EH2: Accroissement courant (m³/ha/an) | EI2: Accroissement courant (m³/ha/an) | EJ2: Volume BF linéarisé (m³/ha) | EK2: Biomasse aérienne (tMS/ha) | EL2: Biomasse racinaire (tMS/ha) | EM2: Biomasse totale (tCO₂/ha) | EN2: Biomasse totale + sol + litière (tCO₂/ha) | EO2: ΔStock moyen de long terme (tCO₂/ha) | EP2: Δstock CO₂ 30 ans (tCO₂/ha) | EQ2: N° coupe | ER2: Volume BF éclairci (m³/ha) | ES2: % sciages | ET2: % panneaux | EU2: % pâte à papier | EV2: Stock sciages (tCO₂/ha) | EW2: Stock panneaux (tCO₂/ha) | EX2: Stocks pâte à papier (tCO₂/ha) | EY2: Stock produits bois (tCO₂/ha) | EZ2: Sol (tC/ha) | FA2: Litière (tC/ha) | FB2: Volume BF (m³/ha) | FC2: Accroissement courant (m³/ha/an) | FD2: Accroissement courant (m³/ha/an) | FE2: Volume BF linéarisé (m³/ha) | FF2: Biomasse aérienne (tMS/ha) | FG2: Biomasse racinaire (tMS/ha) | FH2: Biomasse totale (tCO₂/ha) | FI2: Biomasse totale + sol + litière (tCO₂/ha) | FJ2: ΔStock moyen de long terme (tCO₂/ha) | FK2: Δstock CO₂ 30 ans (tCO₂/ha) | FL2: N° coupe | FM2: Volume BF éclairci (m³/ha) | FN2: % sciages | FO2: % panneaux | FP2: % pâte à papier | FQ2: Stock sciages (tCO₂/ha) | FR2: Stock panneaux (tCO₂/ha) | FS2: Stocks pâte à papier (tCO₂/ha) | FT2: Stock produits bois (tCO₂/ha) | FU2: Sol (tC/ha) | FV2: Litière (tC/ha) | FW2: Volume BF (m³/ha) | FX2: Accroissement courant (m³/ha/an) | FY2: Accroissement courant (m³/ha/an) | FZ2: Volume BF linéarisé (m³/ha) | GA2: Biomasse aérienne (tMS/ha) | GB2: Biomasse racinaire (tMS/ha) | GC2: Biomasse totale (tCO₂/ha) | GD2: Biomasse totale + sol + litière (tCO₂/ha) | GE2: ΔStock moyen de long terme (tCO₂/ha) | GF2: Δstock CO₂ 30 ans (tCO₂/ha) | GG2: N° coupe | GH2: Volume BF éclairci (m³/ha) | GI2: % sciages | GJ2: % panneaux | GK2: % pâte à papier | GL2: Stock sciages (tCO₂/ha) | GM2: Stock panneaux (tCO₂/ha) | GN2: Stocks pâte à papier (tCO₂/ha) | GO2: Stock produits bois (tCO₂/ha) | GP2: Sol (tC/ha) | GQ2: Litière (tC/ha) | GR2: Volume BF (m³/ha) | GS2: Accroissement courant (m³/ha/an) | GT2: Accroissement courant (m³/ha/an) | GU2: Volume BF linéarisé (m³/ha) | GV2: Biomasse aérienne (tMS/ha) | GW2: Biomasse racinaire (tMS/ha) | GX2: Biomasse totale (tCO₂/ha) | GY2: Biomasse totale + sol + litière (tCO₂/ha) | GZ2: ΔStock moyen de long terme (tCO₂/ha) | HA2: Δstock CO₂ 30 ans (tCO₂/ha) | HB2: N° coupe | HC2: Volume BF éclairci (m³/ha) | HD2: % sciages | HE2: % panneaux | HF2: % pâte à papier | HG2: Stock sciages (tCO₂/ha) | HH2: Stock panneaux (tCO₂/ha) | HI2: Stocks pâte à papier (tCO₂/ha) | HJ2: Stock produits bois (tCO₂/ha)
A3: 0 | B3: ='Scénario référence'!$B$16*5+'Scénario référence'!$B$17*0+'Scénario référence'!$B$18*5 -> 0 | C3: 0 | D3: 0 | E3: ='Scénario référence'!$B$16*45+('Scénario référence'!$B$17+'Scénario référence'!$F$8+'Scénario référence'!$F$9+'Scénario référence'!$B$10+'Scénario référence'!$B$9)*70+'Scénario référence'!$B$18*32 -> 70 | F3: =IF(OR('Scénario référence'!$F$8>0,'Scénario référence'!$F$9>0),('Scénario référence'!$F$8+'Scénario référence'!$F$9)*10,0) -> 10 | G3: ='Scénario référence'!$B$8*B3*44/12+'Scénario référence'!$B$9*(C3+D3)/0.475*44/12+'Scénario référence'!$B$10*(C3+D3)/0.475*44/12+'Scénario référence'!$F$8*(C3+D3)/0.475*44/12+'Scénario référence'!$F$9*(C3+D3)/0.475*44/12 -> 0 | H3: =(B3+E3+F3)*44/12+(C3+D3)*0.475*44/12 -> 293.33333 | I3: =('Scénario référence'!$F$8+'Scénario référence'!$F$9+'Scénario référence'!$B$17+'Scénario référence'!$B$9+'Scénario référence'!$B$10)*70+IF((45+25*(1-EXP(-0.0175*A3)))<70,'Scénario référence'!$B$16*(45+25*(1-EXP(-0.0175*A3))),70*'Scénario référence'!$B$16)+IF((32+38*(1-EXP(-0.0175*A3)))<70,'Scénario référence'!$B$18*(32+38*(1-EXP(-0.0175*A3))),70*'Scénario référence'!$B$18) -> 70 | J3: =IF(A3>30,10,('Scénario référence'!$B$16+'Scénario référence'!$B$17+'Scénario référence'!$B$18+'Scénario référence'!$B$9+'Scénario référence'!$B$10)*A3*10/30+('Scénario référence'!$F$8+'Scénario référence'!$F$9)*10) -> 10 | K3: 0 | L3: =VLOOKUP(A3,'Données projet'!$A$35:$I$55,9,0) -> #N/A | M3: 0 | N3: 0 | O3: =N3*VLOOKUP('Données projet'!$B$9,Paramètres!$A$1:$I$89,3,0)*VLOOKUP('Données projet'!$B$9,Paramètres!$A$1:$I$89,5,0) -> 0 | P3: 0 | Q3: =(O3+P3)*0.475*44/12 -> 0 | R3: =Q3+(I3+J3)*44/12 -> 293.33333 | S3: =AVERAGE(OFFSET($R$3,0,0,'Données projet'!$E$9+1,1))-AVERAGE(OFFSET($H$3,0,0,'Données projet'!$E$9+1,1)) -> 255.5375 | T3: =IF('Données projet'!E9>30,$R$33-$H$33,LOOKUP('Données projet'!$E$9,$A$3:$A$203,R3:R203)-LOOKUP('Données projet'!$E$9,$A$3:$A$203,$H$3:$H$203)) -> 343.10418 | U3: =IF(ISNA(VLOOKUP(A3,'Données projet'!$A$35:$I$55,3,0)),0,VLOOKUP(A3,'Données projet'!$A$35:$I$55,3,0)) -> 0 | V3: =IF(ISNA(VLOOKUP(A3,'Données projet'!$A$35:$I$55,4,0)),0,VLOOKUP(A3,'Données projet'!$A$35:$I$55,4,0)) -> 0 | W3: =IF(ISNA(VLOOKUP(A3,'Données projet'!$A$35:$I$55,5,0)),0%,VLOOKUP(A3,'Données projet'!$A$35:$I$55,5,0)*VLOOKUP('Données projet'!$B$9,Paramètres!$A$1:$I$89,7,0)) -> 0 | X3: =IF(ISNA(VLOOKUP(A3,'Données projet'!$A$35:$I$55,6,0)),0%,VLOOKUP(A3,'Données projet'!$A$35:$I$55,6,0)*VLOOKUP('Données projet'!$B$9,Paramètres!$A$1:$I$89,7,0)) -> 0 | Y3: =IF(ISNA(VLOOKUP(A3,'Données projet'!$A$35:$I$55,7,0)),0%,VLOOKUP(A3,'Données projet'!$A$35:$I$55,7,0)) -> 0 | Z3: 0 | AA3: 0 | AB3: 0 | AC3: =SUM(Z3:AB3) -> 0 | AD3: =('Scénario référence'!$F$8+'Scénario référence'!$F$9+'Scénario référence'!$B$17+'Scénario référence'!$B$9+'Scénario référence'!$B$10)*70+IF((45+25*(1-EXP(-0.0175*A3)))<70,'Scénario référence'!$B$16*(45+25*(1-EXP(-0.0175*A3))),70*'Scénario référence'!$B$16)+IF((32+38*(1-EXP(-0.0175*A3)))<70,'Scénario référence'!$B$18*(32+38*(1-EXP(-0.0175*A3))),70*'Scénario référence'!$B$18) -> 70 | AE3: =IF(A3>30,10,('Scénario référence'!$B$16+'Scénario référence'!$B$17+'Scénario référence'!$B$18+'Scénario référence'!$B$9+'Scénario référence'!$B$10)*A3*10/30+('Scénario référence'!$F$8+'Scénario référence'!$F$9)*10) -> 10 | AF3: 0 | AG3: =VLOOKUP(A3,'Données projet'!$A$61:$I$81,9,0) -> #N/A | AH3: 0 | AI3: 0 | AJ3: =AI3*VLOOKUP('Données projet'!$B$10,Paramètres!$A$1:$I$89,3,0)*VLOOKUP('Données projet'!$B$10,Paramètres!$A$1:$I$89,5,0) -> 0 | AK3: 0 | AL3: =(AJ3+AK3)*0.475*44/12 -> 0 | AM3: =AL3+(AD3+AE3)*44/12 -> 293.33333 | AN3: =AVERAGE(OFFSET($AM$3,0,0,'Données projet'!$E$10+1,1))-AVERAGE(OFFSET($H$3,0,0,'Données projet'!$E$10+1,1)) -> 261.78489 | AO3: =IF('Données projet'!E10>30,$AM$33-$H$33,LOOKUP('Données projet'!$E$10,$A$3:$A$203,AM3:AM203)-LOOKUP('Données projet'!$E$10,$A$3:$A$203,$H$3:$H$203)) -> 297.50514 | AP3: =IF(ISNA(VLOOKUP(A3,'Données projet'!$A$61:$I$81,3,0)),0,VLOOKUP(A3,'Données projet'!$A$61:$I$81,3,0)) -> 0 | AQ3: =IF(ISNA(VLOOKUP(A3,'Données projet'!$A$61:$I$81,4,0)),0,VLOOKUP(A3,'Données projet'!$A$61:$I$81,4,0)) -> 0 | AR3: =IF(ISNA(VLOOKUP(A3,'Données projet'!$A$61:$I$81,5,0)),0%,VLOOKUP(A3,'Données projet'!$A$61:$I$81,5,0)*VLOOKUP('Données projet'!$B$10,Paramètres!$A$1:$I$89,7,0)) -> 0 | AS3: =IF(ISNA(VLOOKUP(A3,'Données projet'!$A$61:$I$81,6,0)),0%,VLOOKUP(A3,'Données projet'!$A$61:$I$81,6,0)*VLOOKUP('Données projet'!$B$10,Paramètres!$A$1:$I$89,7,0)) -> 0 | AT3: =IF(ISNA(VLOOKUP(A3,'Données projet'!$A$61:$I$81,7,0)),0%,VLOOKUP(A3,'Données projet'!$A$61:$I$81,7,0)) -> 0 | AU3: 0 | AV3: 0 | AW3: 0 | AX3: =SUM(AU3:AW3) -> 0 | AY3: =('Scénario référence'!$F$8+'Scénario référence'!$F$9+'Scénario référence'!$B$17+'Scénario référence'!$B$9+'Scénario référence'!$B$10)*70+IF((45+25*(1-EXP(-0.0175*A3)))<70,'Scénario référence'!$B$16*(45+25*(1-EXP(-0.0175*A3))),70*'Scénario référence'!$B$16)+IF((32+38*(1-EXP(-0.0175*A3)))<70,'Scénario référence'!$B$18*(32+38*(1-EXP(-0.0175*A3))),70*'Scénario référence'!$B$18) -> 70 | AZ3: =IF(A3>30,10,('Scénario référence'!$B$16+'Scénario référence'!$B$17+'Scénario référence'!$B$18+'Scénario référence'!$B$9+'Scénario référence'!$B$10)*A3*10/30+('Scénario référence'!$F$8+'Scénario référence'!$F$9)*10) -> 10 | BA3: 0 | BB3: =VLOOKUP(A3,'Données projet'!$A$87:$I$107,9,0) -> #N/A | BC3: 0 | BD3: 0 | BE3: =BD3*VLOOKUP('Données projet'!$B$11,Paramètres!$A$1:$I$89,3,0)*VLOOKUP('Données projet'!$B$11,Paramètres!$A$1:$I$89,5,0) -> 0 | BF3: 0 | BG3: =(BE3+BF3)*0.475*44/12 -> 0 | BH3: =BG3+(AY3+AZ3)*44/12 -> 293.33333 | BI3: =AVERAGE(OFFSET($BH$3,0,0,'Données projet'!$E$11+1,1))-AVERAGE(OFFSET($H$3,0,0,'Données projet'!$E$11+1,1)) -> 316.5851 | BJ3: =IF('Données projet'!E11>30,$BH$33-$H$33,LOOKUP('Données projet'!$E$11,$A$3:$A$203,BH3:BH203)-LOOKUP('Données projet'!$E$11,$A$3:$A$203,$H$3:$H$203)) -> 240.71332 | BK3: =IF(ISNA(VLOOKUP(A3,'Données projet'!$A$87:$I$107,3,0)),0,VLOOKUP(A3,'Données projet'!$A$87:$I$107,3,0)) -> 0 | BL3: =IF(ISNA(VLOOKUP(A3,'Données projet'!$A$87:$I$107,4,0)),0,VLOOKUP(A3,'Données projet'!$A$87:$I$107,4,0)) -> 0 | BM3: =IF(ISNA(VLOOKUP(A3,'Données projet'!$A$87:$I$107,5,0)),0%,VLOOKUP(A3,'Données projet'!$A$87:$I$107,5,0)*VLOOKUP('Données projet'!$B$11,Paramètres!$A$1:$I$89,7,0)) -> 0 | BN3: =IF(ISNA(VLOOKUP(A3,'Données projet'!$A$87:$I$107,6,0)),0%,VLOOKUP(A3,'Données projet'!$A$87:$I$107,6,0)*VLOOKUP('Données projet'!$B$11,Paramètres!$A$1:$I$89,7,0)) -> 0 | BO3: =IF(ISNA(VLOOKUP(A3,'Données projet'!$A$87:$I$107,7,0)),0%,VLOOKUP(A3,'Données projet'!$A$87:$I$107,7,0)) -> 0 | BP3: 0 | BQ3: 0 | BR3: 0 | BS3: =SUM(BP3:BR3) -> 0 | BT3: =('Scénario référence'!$F$8+'Scénario référence'!$F$9+'Scénario référence'!$B$17+'Scénario référence'!$B$9+'Scénario référence'!$B$10)*70+IF((45+25*(1-EXP(-0.0175*A3)))<70,'Scénario référence'!$B$16*(45+25*(1-EXP(-0.0175*A3))),70*'Scénario référence'!$B$16)+IF((32+38*(1-EXP(-0.0175*A3)))<70,'Scénario référence'!$B$18*(32+38*(1-EXP(-0.0175*A3))),70*'Scénario référence'!$B$18) -> 70 | BU3: =IF(A3>30,10,('Scénario référence'!$B$16+'Scénario référence'!$B$17+'Scénario référence'!$B$18+'Scénario référence'!$B$9+'Scénario référence'!$B$10)*A3*10/30+('Scénario référence'!$F$8+'Scénario référence'!$F$9)*10) -> 10 | BV3: 0 | BW3: =VLOOKUP(A3,'Données projet'!$A$113:$I$133,9,0) -> #N/A | BX3: 0 | BY3: 0 | BZ3: =BY3*VLOOKUP('Données projet'!$B$12,Paramètres!$A$1:$I$89,3,0)*VLOOKUP('Données projet'!$B$12,Paramètres!$A$1:$I$89,5,0) -> 0 | CA3: 0 | CB3: =(BZ3+CA3)*0.475*44/12 -> 0 | CC3: =CB3+(BT3+BU3)*44/12 -> 293.33333 | CD3: =AVERAGE(OFFSET($CC$3,0,0,'Données projet'!$E$12+1,1))-AVERAGE(OFFSET($H$3,0,0,'Données projet'!$E$12+1,1)) -> 188.64375 | CE3: =IF('Données projet'!E12>30,$CC$33-$H$33,LOOKUP('Données projet'!$E$12,$A$3:$A$203,CC3:CC203)-LOOKUP('Données projet'!$E$12,$A$3:$A$203,$H$3:$H$203)) -> 211.95158 | CF3: =IF(ISNA(VLOOKUP(A3,'Données projet'!$A$113:$I$133,3,0)),0,VLOOKUP(A3,'Données projet'!$A$113:$I$133,3,0)) -> 0 | CG3: =IF(ISNA(VLOOKUP(A3,'Données projet'!$A$113:$I$133,4,0)),0,VLOOKUP(A3,'Données projet'!$A$113:$I$133,4,0)) -> 0 | CH3: =IF(ISNA(VLOOKUP(A3,'Données projet'!$A$113:$I$133,5,0)),0%,VLOOKUP(A3,'Données projet'!$A$113:$I$133,5,0)*VLOOKUP('Données projet'!$B$12,Paramètres!$A$1:$I$89,7,0)) -> 0 | CI3: =IF(ISNA(VLOOKUP(A3,'Données projet'!$A$113:$I$133,6,0)),0%,VLOOKUP(A3,'Données projet'!$A$113:$I$133,6,0)*VLOOKUP('Données projet'!$B$12,Paramètres!$A$1:$I$89,7,0)) -> 0 | CJ3: =IF(ISNA(VLOOKUP(A3,'Données projet'!$A$113:$I$133,7,0)),0%,VLOOKUP(A3,'Données projet'!$A$113:$I$133,7,0)) -> 0 | CK3: 0 | CL3: 0 | CM3: 0 | CN3: =SUM(CK3:CM3) -> 0 | CO3: =('Scénario référence'!$F$8+'Scénario référence'!$F$9+'Scénario référence'!$B$17+'Scénario référence'!$B$9+'Scénario référence'!$B$10)*70+IF((45+25*(1-EXP(-0.0175*A3)))<70,'Scénario référence'!$B$16*(45+25*(1-EXP(-0.0175*A3))),70*'Scénario référence'!$B$16)+IF((32+38*(1-EXP(-0.0175*A3)))<70,'Scénario référence'!$B$18*(32+38*(1-EXP(-0.0175*A3))),70*'Scénario référence'!$B$18) -> 70 | CP3: =IF(A3>30,10,('Scénario référence'!$B$16+'Scénario référence'!$B$17+'Scénario référence'!$B$18+'Scénario référence'!$B$9+'Scénario référence'!$B$10)*A3*10/30+('Scénario référence'!$F$8+'Scénario référence'!$F$9)*10) -> 10 | CQ3: 0 | CR3: =VLOOKUP(A3,'Données projet'!$A$139:$I$159,9,0) -> #N/A | CS3: 0 | CT3: 0 | CU3: =CT3*VLOOKUP('Données projet'!$B$13,Paramètres!$A$1:$I$89,3,0)*VLOOKUP('Données projet'!$B$13,Paramètres!$A$1:$I$89,5,0) -> #N/A | CV3: 0 | CW3: =(CU3+CV3)*0.475*44/12 -> #N/A | CX3: =CW3+(CO3+CP3)*44/12 -> #N/A | CY3: =AVERAGE(OFFSET($CX$3,0,0,'Données projet'!$E$13+1,1))-AVERAGE(OFFSET($H$3,0,0,'Données projet'!$E$13+1,1)) -> #N/A | CZ3: =IF('Données projet'!E13>30,$CX$33-$H$33,LOOKUP('Données projet'!$E$13,$A$3:$A$203,CX3:CX203)-LOOKUP('Données projet'!$E$13,$A$3:$A$203,$H$3:$H$203)) -> #N/A | DA3: =IF(ISNA(VLOOKUP(A3,'Données projet'!$A$139:$I$159,3,0)),0,VLOOKUP(A3,'Données projet'!$A$139:$I$159,3,0)) -> 0 | DB3: =IF(ISNA(VLOOKUP(A3,'Données projet'!$A$139:$I$159,4,0)),0,VLOOKUP(A3,'Données projet'!$A$139:$I$159,4,0)) -> 0 | DC3: =IF(ISNA(VLOOKUP(A3,'Données projet'!$A$139:$I$159,5,0)),0%,VLOOKUP(A3,'Données projet'!$A$139:$I$159,5,0)*VLOOKUP('Données projet'!$B$13,Paramètres!$A$1:$I$89,7,0)) -> 0 | DD3: =IF(ISNA(VLOOKUP(A3,'Données projet'!$A$139:$I$159,6,0)),0%,VLOOKUP(A3,'Données projet'!$A$139:$I$159,6,0)*VLOOKUP('Données projet'!$B$13,Paramètres!$A$1:$I$89,7,0)) -> 0 | DE3: =IF(ISNA(VLOOKUP(A3,'Données projet'!$A$139:$I$159,7,0)),0%,VLOOKUP(A3,'Données projet'!$A$139:$I$159,7,0)) -> 0 | DF3: 0 | DG3: 0 | DH3: 0 | DI3: =SUM(DF3:DH3) -> 0 | DJ3: =('Scénario référence'!$F$8+'Scénario référence'!$F$9+'Scénario référence'!$B$17+'Scénario référence'!$B$9+'Scénario référence'!$B$10)*70+IF((45+25*(1-EXP(-0.0175*A3)))<70,'Scénario référence'!$B$16*(45+25*(1-EXP(-0.0175*A3))),70*'Scénario référence'!$B$16)+IF((32+38*(1-EXP(-0.0175*A3)))<70,'Scénario référence'!$B$18*(32+38*(1-EXP(-0.0175*A3))),70*'Scénario référence'!$B$18) -> 70 | DK3: =IF(A3>30,10,('Scénario référence'!$B$16+'Scénario référence'!$B$17+'Scénario référence'!$B$18+'Scénario référence'!$B$9+'Scénario référence'!$B$10)*A3*10/30+('Scénario référence'!$F$8+'Scénario référence'!$F$9)*10) -> 10 | DL3: 0 | DM3: =VLOOKUP(A3,'Données projet'!$A$165:$I$185,9,0) -> #N/A | DN3: 0 | DO3: 0 | DP3: =DO3*VLOOKUP('Données projet'!$B$14,Paramètres!$A$1:$I$89,3,0)*VLOOKUP('Données projet'!$B$14,Paramètres!$A$1:$I$89,5,0) -> 0 | DQ3: 0 | DR3: =(DP3+DQ3)*0.475*44/12 -> 0 | DS3: =DR3+(DJ3+DK3)*44/12 -> 293.33333 | DT3: =AVERAGE(OFFSET($DS$3,0,0,'Données projet'!$E$14+1,1))-AVERAGE(OFFSET($H$3,0,0,'Données projet'!$E$14+1,1)) -> 188.68916 | DU3: =IF('Données projet'!E14>30,$DS$33-$H$33,LOOKUP('Données projet'!$E$14,$A$3:$A$203,DS3:DS203)-LOOKUP('Données projet'!$E$14,$A$3:$A$203,$H$3:$H$203)) -> 240.82468 | DV3: =IF(ISNA(VLOOKUP(A3,'Données projet'!$A$165:$I$185,3,0)),0,VLOOKUP(A3,'Données projet'!$A$165:$I$185,3,0)) -> 0 | DW3: =IF(ISNA(VLOOKUP(A3,'Données projet'!$A$165:$I$185,4,0)),0,VLOOKUP(A3,'Données projet'!$A$165:$I$185,4,0)) -> 0 | DX3: =IF(ISNA(VLOOKUP(A3,'Données projet'!$A$165:$I$185,5,0)),0%,VLOOKUP(A3,'Données projet'!$A$165:$I$185,5,0)*VLOOKUP('Données projet'!$B$14,Paramètres!$A$1:$I$89,7,0)) -> 0 | DY3: =IF(ISNA(VLOOKUP(A3,'Données projet'!$A$165:$I$185,6,0)),0%,VLOOKUP(A3,'Données projet'!$A$165:$I$185,6,0)*VLOOKUP('Données projet'!$B$14,Paramètres!$A$1:$I$89,7,0)) -> 0 | DZ3: =IF(ISNA(VLOOKUP(A3,'Données projet'!$A$165:$I$185,7,0)),0%,VLOOKUP(A3,'Données projet'!$A$165:$I$185,7,0)) -> 0 | EA3: 0 | EB3: 0 | EC3: 0 | ED3: =SUM(EA3:EC3) -> 0 | EE3: =('Scénario référence'!$F$8+'Scénario référence'!$F$9+'Scénario référence'!$B$17+'Scénario référence'!$B$9+'Scénario référence'!$B$10)*70+IF((45+25*(1-EXP(-0.0175*A3)))<70,'Scénario référence'!$B$16*(45+25*(1-EXP(-0.0175*A3))),70*'Scénario référence'!$B$16)+IF((32+38*(1-EXP(-0.0175*A3)))<70,'Scénario référence'!$B$18*(32+38*(1-EXP(-0.0175*A3))),70*'Scénario référence'!$B$18) -> 70 | EF3: =IF(A3>30,10,('Scénario référence'!$B$16+'Scénario référence'!$B$17+'Scénario référence'!$B$18+'Scénario référence'!$B$9+'Scénario référence'!$B$10)*A3*10/30+('Scénario référence'!$F$8+'Scénario référence'!$F$9)*10) -> 10 | EG3: 0 | EH3: =VLOOKUP(A3,'Données projet'!$A$191:$I$211,9,0) -> #N/A | EI3: 0 | EJ3: 0 | EK3: =EJ3*VLOOKUP('Données projet'!$B$15,Paramètres!$A$1:$I$89,3,0)*VLOOKUP('Données projet'!$B$15,Paramètres!$A$1:$I$89,5,0) -> 0 | EL3: 0 | EM3: =(EK3+EL3)*0.475*44/12 -> 0 | EN3: =EM3+(EE3+EF3)*44/12 -> 293.33333 | EO3: =AVERAGE(OFFSET($EN$3,0,0,'Données projet'!$E$15+1,1))-AVERAGE(OFFSET($H$3,0,0,'Données projet'!$E$15+1,1)) -> 205.52726 | EP3: =IF('Données projet'!E15>30,$EN$33-$H$33,LOOKUP('Données projet'!$E$15,$A$3:$A$203,EN3:EN203)-LOOKUP('Données projet'!$E$15,$A$3:$A$203,$H$3:$H$203)) -> 180.54763 | EQ3: =IF(ISNA(VLOOKUP(A3,'Données projet'!$A$191:$I$211,3,0)),0,VLOOKUP(A3,'Données projet'!$A$191:$I$211,3,0)) -> 0 | ER3: =IF(ISNA(VLOOKUP(A3,'Données projet'!$A$191:$I$211,4,0)),0,VLOOKUP(A3,'Données projet'!$A$191:$I$211,4,0)) -> 0 | ES3: =IF(ISNA(VLOOKUP(A3,'Données projet'!$A$191:$I$211,5,0)),0%,VLOOKUP(A3,'Données projet'!$A$191:$I$211,5,0)*VLOOKUP('Données projet'!$B$15,Paramètres!$A$1:$I$89,7,0)) -> 0 | ET3: =IF(ISNA(VLOOKUP(A3,'Données projet'!$A$191:$I$211,6,0)),0%,VLOOKUP(A3,'Données projet'!$A$191:$I$211,6,0)*VLOOKUP('Données projet'!$B$15,Paramètres!$A$1:$I$89,7,0)) -> 0 | EU3: =IF(ISNA(VLOOKUP(A3,'Données projet'!$A$191:$I$211,7,0)),0%,VLOOKUP(A3,'Données projet'!$A$191:$I$211,7,0)) -> 0 | EV3: 0 | EW3: 0 | EX3: 0 | EY3: =SUM(EV3:EX3) -> 0 | EZ3: =('Scénario référence'!$F$8+'Scénario référence'!$F$9+'Scénario référence'!$B$17+'Scénario référence'!$B$9+'Scénario référence'!$B$10)*70+IF((45+25*(1-EXP(-0.0175*A3)))<70,'Scénario référence'!$B$16*(45+25*(1-EXP(-0.0175*A3))),70*'Scénario référence'!$B$16)+IF((32+38*(1-EXP(-0.0175*A3)))<70,'Scénario référence'!$B$18*(32+38*(1-EXP(-0.0175*A3))),70*'Scénario référence'!$B$18) -> 70 | FA3: =IF(A3>30,10,('Scénario référence'!$B$16+'Scénario référence'!$B$17+'Scénario référence'!$B$18+'Scénario référence'!$B$9+'Scénario référence'!$B$10)*A3*10/30+('Scénario référence'!$F$8+'Scénario référence'!$F$9)*10) -> 10 | FB3: 0 | FC3: =VLOOKUP(A3,'Données projet'!$A$217:$I$237,9,0) -> #N/A | FD3: 0 | FE3: 0 | FF3: =FE3*VLOOKUP('Données projet'!$B$16,Paramètres!$A$1:$I$89,3,0)*VLOOKUP('Données projet'!$B$16,Paramètres!$A$1:$I$89,5,0) -> 0 | FG3: 0 | FH3: =(FF3+FG3)*0.475*44/12 -> 0 | FI3: =FH3+(EZ3+FA3)*44/12 -> 293.33333 | FJ3: =AVERAGE(OFFSET($FI$3,0,0,'Données projet'!$E$16+1,1))-AVERAGE(OFFSET($H$3,0,0,'Données projet'!$E$16+1,1)) -> 383.97627 | FK3: =IF('Données projet'!E16>30,$FI$33-$H$33,LOOKUP('Données projet'!$E$16,$A$3:$A$203,FI3:FI203)-LOOKUP('Données projet'!$E$16,$A$3:$A$203,$H$3:$H$203)) -> 203.35477 | FL3: =IF(ISNA(VLOOKUP(A3,'Données projet'!$A$217:$I$237,3,0)),0,VLOOKUP(A3,'Données projet'!$A$217:$I$237,3,0)) -> 0 | FM3: =IF(ISNA(VLOOKUP(A3,'Données projet'!$A$217:$I$237,4,0)),0,VLOOKUP(A3,'Données projet'!$A$217:$I$237,4,0)) -> 0 | FN3: =IF(ISNA(VLOOKUP(A3,'Données projet'!$A$217:$I$237,5,0)),0%,VLOOKUP(A3,'Données projet'!$A$217:$I$237,5,0)*VLOOKUP('Données projet'!$B$16,Paramètres!$A$1:$I$89,7,0)) -> 0 | FO3: =IF(ISNA(VLOOKUP(A3,'Données projet'!$A$217:$I$237,6,0)),0%,VLOOKUP(A3,'Données projet'!$A$217:$I$237,6,0)*VLOOKUP('Données projet'!$B$16,Paramètres!$A$1:$I$89,7,0)) -> 0 | FP3: =IF(ISNA(VLOOKUP(A3,'Données projet'!$A$217:$I$237,7,0)),0%,VLOOKUP(A3,'Données projet'!$A$217:$I$237,7,0)) -> 0 | FQ3: 0 | FR3: 0 | FS3: 0 | FT3: =SUM(FQ3:FS3) -> 0 | FU3: =('Scénario référence'!$F$8+'Scénario référence'!$F$9+'Scénario référence'!$B$17+'Scénario référence'!$B$9+'Scénario référence'!$B$10)*70+IF((45+25*(1-EXP(-0.0175*A3)))<70,'Scénario référence'!$B$16*(45+25*(1-EXP(-0.0175*A3))),70*'Scénario référence'!$B$16)+IF((32+38*(1-EXP(-0.0175*A3)))<70,'Scénario référence'!$B$18*(32+38*(1-EXP(-0.0175*A3))),70*'Scénario référence'!$B$18) -> 70 | FV3: =IF(A3>30,10,('Scénario référence'!$B$16+'Scénario référence'!$B$17+'Scénario référence'!$B$18+'Scénario référence'!$B$9+'Scénario référence'!$B$10)*A3*10/30+('Scénario référence'!$F$8+'Scénario référence'!$F$9)*10) -> 10 | FW3: 0 | FX3: =VLOOKUP(A3,'Données projet'!$A$243:$I$263,9,0) -> #N/A | FY3: 0 | FZ3: 0 | GA3: =FZ3*VLOOKUP('Données projet'!$B$17,Paramètres!$A$1:$I$89,3,0)*VLOOKUP('Données projet'!$B$17,Paramètres!$A$1:$I$89,5,0) -> 0 | GB3: 0 | GC3: =(GA3+GB3)*0.475*44/12 -> 0 | GD3: =GC3+(FU3+FV3)*44/12 -> 293.33333 | GE3: =AVERAGE(OFFSET($GD$3,0,0,'Données projet'!$E$17+1,1))-AVERAGE(OFFSET($H$3,0,0,'Données projet'!$E$17+1,1)) -> 286.77703 | GF3: =IF('Données projet'!E17>30,$GD$33-$H$33,LOOKUP('Données projet'!$E$17,$A$3:$A$203,GD3:GD203)-LOOKUP('Données projet'!$E$17,$A$3:$A$203,$H$3:$H$203)) -> 227.12212 | GG3: =IF(ISNA(VLOOKUP(A3,'Données projet'!$A$243:$I$263,3,0)),0,VLOOKUP(A3,'Données projet'!$A$243:$I$263,3,0)) -> 0 | GH3: =IF(ISNA(VLOOKUP(A3,'Données projet'!$A$243:$I$263,4,0)),0,VLOOKUP(A3,'Données projet'!$A$243:$I$263,4,0)) -> 0 | GI3: =IF(ISNA(VLOOKUP(A3,'Données projet'!$A$243:$I$263,5,0)),0%,VLOOKUP(A3,'Données projet'!$A$243:$I$263,5,0)*VLOOKUP('Données projet'!$B$17,Paramètres!$A$1:$I$89,7,0)) -> 0 | GJ3: =IF(ISNA(VLOOKUP(A3,'Données projet'!$A$243:$I$263,6,0)),0%,VLOOKUP(A3,'Données projet'!$A$243:$I$263,6,0)*VLOOKUP('Données projet'!$B$17,Paramètres!$A$1:$I$89,7,0)) -> 0 | GK3: =IF(ISNA(VLOOKUP(A3,'Données projet'!$A$243:$I$263,7,0)),0%,VLOOKUP(A3,'Données projet'!$A$243:$I$263,7,0)) -> 0 | GL3: 0 | GM3: 0 | GN3: 0 | GO3: =SUM(GL3:GN3) -> 0 | GP3: =('Scénario référence'!$F$8+'Scénario référence'!$F$9+'Scénario référence'!$B$17+'Scénario référence'!$B$9+'Scénario référence'!$B$10)*70+IF((45+25*(1-EXP(-0.0175*A3)))<70,'Scénario référence'!$B$16*(45+25*(1-EXP(-0.0175*A3))),70*'Scénario référence'!$B$16)+IF((32+38*(1-EXP(-0.0175*A3)))<70,'Scénario référence'!$B$18*(32+38*(1-EXP(-0.0175*A3))),70*'Scénario référence'!$B$18) -> 70 | GQ3: =IF(A3>30,10,('Scénario référence'!$B$16+'Scénario référence'!$B$17+'Scénario référence'!$B$18+'Scénario référence'!$B$9+'Scénario référence'!$B$10)*A3*10/30+('Scénario référence'!$F$8+'Scénario référence'!$F$9)*10) -> 10 | GR3: 0 | GS3: =VLOOKUP(A3,'Données projet'!$A$269:$I$289,9,0) -> #N/A | GT3: 0 | GU3: 0 | GV3: =GU3*VLOOKUP('Données projet'!$B$18,Paramètres!$A$1:$I$89,3,0)*VLOOKUP('Données projet'!$B$18,Paramètres!$A$1:$I$89,5,0) -> 0 | GW3: 0 | GX3: =(GV3+GW3)*0.475*44/12 -> 0 | GY3: =GX3+(GP3+GQ3)*44/12 -> 293.33333 | GZ3: =AVERAGE(OFFSET($GY$3,0,0,'Données projet'!$E$18+1,1))-AVERAGE(OFFSET($H$3,0,0,'Données projet'!$E$18+1,1)) -> 286.77703 | HA3: =IF('Données projet'!E18>30,$GY$33-$H$33,LOOKUP('Données projet'!$E$18,$A$3:$A$203,GY3:GY203)-LOOKUP('Données projet'!$E$18,$A$3:$A$203,$H$3:$H$203)) -> 227.12212 | HB3: =IF(ISNA(VLOOKUP(A3,'Données projet'!$A$269:$I$289,3,0)),0,VLOOKUP(A3,'Données projet'!$A$269:$I$289,3,0)) -> 0 | HC3: =IF(ISNA(VLOOKUP(A3,'Données projet'!$A$269:$I$289,4,0)),0,VLOOKUP(A3,'Données projet'!$A$269:$I$289,4,0)) -> 0 | HD3: =IF(ISNA(VLOOKUP(A3,'Données projet'!$A$269:$I$289,5,0)),0%,VLOOKUP(A3,'Données projet'!$A$269:$I$289,5,0)*VLOOKUP('Données projet'!$B$18,Paramètres!$A$1:$I$89,7,0)) -> 0 | HE3: =IF(ISNA(VLOOKUP(A3,'Données projet'!$A$269:$I$289,6,0)),0%,VLOOKUP(A3,'Données projet'!$A$269:$I$289,6,0)*VLOOKUP('Données projet'!$B$18,Paramètres!$A$1:$I$89,7,0)) -> 0 | HF3: =IF(ISNA(VLOOKUP(A3,'Données projet'!$A$269:$I$289,7,0)),0%,VLOOKUP(A3,'Données projet'!$A$269:$I$289,7,0)) -> 0 | HG3: 0 | HH3: 0 | HI3: 0 | HJ3: =SUM(HG3:HI3) -> 0
