Workbook

Sheet Accueil
B2: Tableur de calcul des réductions d'émissions pour un projet de Valorisation du stockage du carbone longue durée - BBCA
B13: Ce document sert à calculer les REA d'un projet de Valorisation du stockage de carbone longue durée. Le premier onglet sert à renseigner les données générales du projet. Si le projet est individuel, seul la première ligne sera remplie. Les colonnes oranges sont à remplir au moment de la notification du projet. Pour cela vous pouvez copier-coller autant d'onglets "Données projets" que nécessaires. Dans l'onglet général veuillez indiquer les données plus général au projet ainsi qu'à ses sous-projets s'il y en a. Les différents matériaux stockeurs de carbone sont à remplir dans l'onglet données projets.

Sheet Général
B1: Nombre de bâtiments concernés par le projet : | E1: =COUNTA(B:B)-2 -> 2 | G1: Surface totale du projet (SDP) | I1: =SUM(Tableau2[Surface de plancher (SDP)]) -> 6000 | K1: Surface de référence du projet (Sréf) | L1: =SUM(Tableau2[Surface de référence -Sréf (m²)]) -> 5666 | O1: StockC (kgCeq) | P1: =SUM(Tableau2[StockC (kgCeq)]) -> 132316
A3: Numéro de sous-projet | B3: Nom du bâtiment | C3: Type de bâtiment | D3: Adresse | E3: Nom de la commune | F3: Code postal de la commune | G3: Numéro de département | H3: Nom de région | I3: NOM Prénom du propriétaire | J3: Label BBCA Visé | K3: Surface de plancher (SDP) | L3: Surface de référence -Sréf (m²) | M3: Date de lancement des travaux | N3: Date de livraison du bâtiment (jj/mm/aaaa) | O3: StockC (kgCeq/m²Sréf) | P3: StockC (kgCeq) | Q3: Commentaires
A4: 1 | B4: Bâtiment A | C4: Logement | D4: Angle avenue Jean Monnet et esplanade Brillaud de Laujardière | E4: Caen | F4: 14000 | G4: 14 | H4: Normandie | I4: Elodie GENCE | J4: Oui | K4: 3151 | L4: 3000 | M4: 45917 | N4: 46388 | O4: 21 | P4: =Tableau2[[#This Row],[StockC (kgCeq/m²Sréf)]]*Tableau2[[#This Row],[Surface de référence -Sréf (m²)]] -> 63000 | Q4: StockC = 21,36 kgC/m2
A5: 2 | B5: Bâtiment B | C5: Logement | D5: Angle avenue Jean Monnet et esplanade Brillaud de Laujardière | E5: Cean | F5: 14000 | G5: 14 | H5: Normandie | I5: Elodie GENCE | J5: Oui | K5: 2849 | L5: 2666 | M5: 45917 | N5: 46388 | O5: 26 | P5: =Tableau2[[#This Row],[StockC (kgCeq/m²Sréf)]]*Tableau2[[#This Row],[Surface de référence -Sréf (m²)]] -> 69316 | Q5: StockC = 26,05 kgC/m2
A6: 3 | P6: =Tableau2[[#This Row],[StockC (kgCeq/m²Sréf)]]*Tableau2[[#This Row],[Surface de référence -Sréf (m²)]] -> 0
A7: 4 | P7: =Tableau2[[#This Row],[StockC (kgCeq/m²Sréf)]]*Tableau2[[#This Row],[Surface de référence -Sréf (m²)]] -> 0
A8: 5 | P8: =Tableau2[[#This Row],[StockC (kgCeq/m²Sréf)]]*Tableau2[[#This Row],[Surface de référence -Sréf (m²)]] -> 0
A9: 6 | P9: =Tableau2[[#This Row],[StockC (kgCeq/m²Sréf)]]*Tableau2[[#This Row],[Surface de référence -Sréf (m²)]] -> 0
A10: 7 | P10: =Tableau2[[#This Row],[StockC (kgCeq/m²Sréf)]]*Tableau2[[#This Row],[Surface de référence -Sréf (m²)]] -> 0
A11: 8 | P11: =Tableau2[[#This Row],[StockC (kgCeq/m²Sréf)]]*Tableau2[[#This Row],[Surface de référence -Sréf (m²)]] -> 0
A12: 9 | P12: =Tableau2[[#This Row],[StockC (kgCeq/m²Sréf)]]*Tableau2[[#This Row],[Surface de référence -Sréf (m²)]] -> 0
A13: 10 | P13: =Tableau2[[#This Row],[StockC (kgCeq/m²Sréf)]]*Tableau2[[#This Row],[Surface de référence -Sréf (m²)]] -> 0
A14: 11 | P14: =Tableau2[[#This Row],[StockC (kgCeq/m²Sréf)]]*Tableau2[[#This Row],[Surface de référence -Sréf (m²)]] -> 0
A15: 12 | P15: =Tableau2[[#This Row],[StockC (kgCeq/m²Sréf)]]*Tableau2[[#This Row],[Surface de référence -Sréf (m²)]] -> 0
A16: 13 | P16: =Tableau2[[#This Row],[StockC (kgCeq/m²Sréf)]]*Tableau2[[#This Row],[Surface de référence -Sréf (m²)]] -> 0
A17: 14 | P17: =Tableau2[[#This Row],[StockC (kgCeq/m²Sréf)]]*Tableau2[[#This Row],[Surface de référence -Sréf (m²)]] -> 0
... A540: 537 | P540: =Tableau2[[#This Row],[StockC (kgCeq/m²Sréf)]]*Tableau2[[#This Row],[Surface de référence -Sréf (m²)]] -> 0

Sheet Données projet
A1: 1/ Calcul du stock de CO2
B3: Calcul du stock de CO2 total bâtiments (Stock C *44/12) | C3: =(Général!P1*44/12)/1000 -> 485.15867 | D3: tCO2e
B6: Année de livraison du projet | C6: =IF(MAX(Tableau2[Date de livraison du bâtiment (jj/mm/aaaa)])<>0,YEAR(MAX(Tableau2[Date de livraison du bâtiment (jj/mm/aaaa)])),"") -> 2027
B8: Surface SDP projet | C8: =Général!I1 -> 6000
B9: Surface de référence projet (Sréf) | C9: =Général!L1 -> 5666 | F9: NB : La surface de référence RE 2020 est définie dans la réglementation (SU pour les bureaux et SHAB pour les logements)
B11: Répartition du StockCO2
A12: N° Sous projet | B12: Matériaux stockeurs du projet | C12: UF | D12: Quantité de matériaux biosourcée (UF) | E12: Stock (kgCO2e /UF) (Source : FDES) | F12: Stock de CO2e total (KgCO2e) | G12: Durée de vie du matériaux (FDES) | H12: Source FDES (n°)
A13: 1 | B13: Panneaux CLT HEXAPLI (p. 12 RE2020) | C13: m3 | D13: =65.03+12.27 -> 77.3 | E13: =240.14/0.28 -> 857.64286 | F13: =E13*D13 -> 66295.793 | G13: 100 | H13: 41753
A14: 1 | B14: MOB avec montant d'une largeur de 145 mm, non isolé | C14: m2 | D14: =593.92+112.08 -> 706 | E14: =6.53/0.28 -> 23.321429 | F14: =E14*D14 -> 16464.929 | G14: 100 | H14: 41806
A15: 1 | B15: Escalier en bois feuillu européen | C15: m | D15: =10.6+2 -> 12.6 | E15: =104/0.28 -> 371.42857 | F15: =E15*D15 -> 4680 | G15: 100 | H15: 34814
A16: 1 | B16: Panneau d’isolation de laine de bois complexé avec un panneau de laine de roche et un panneau de PSE : FIBROTHERM ULTRA FEU FM® 180 mm d’épaisseur, R = 5,30 m².K/W (hors accessoires de pose) (v.1.2) | C16: m2 | D16: =96.31+18.18 -> 114.49 | E16: =2.564/0.28 -> 9.1571429 | F16: =E16*D16 -> 1048.4013 | G16: 50 | H16: 41874
A17: 1 | B17: KNAUF INSULATION Laine de Verre ECOSE TP 238 45 mm R=1,40 m².K/W (hors accessoires de pose) | C17: m2 | D17: =759.21+975.85+184.15 -> 1919.21 | E17: =0.06/0.28 -> 0.21428571 | F17: =E17*D17 -> 411.25929 | G17: 50 | H17: 38998
A18: 1 | B18: Bloc-Porte technique non tôlé sur huisserie métallique (v.1.2) | C18: m2 | D18: =75.01+14.16 -> 89.17 | E18: =5.87/0.28 -> 20.964286 | F18: =E18*D18 -> 1869.3854 | G18: 30 | H18: 29577
A19: 1 | B19: Bloc-Porte Bois de communication avec huisserie Bois ou huisserie métallique | C19: m2 | D19: =252.12+47.58 -> 299.7 | E19: =8.05/0.28 -> 28.75 | F19: =E19*D19 -> 8616.375 | G19: 30 | H19: 46692
A20: 1 | B20: Bloc-porte bois technique (avec huisserie métallique) | C20: m2 | D20: =19.26+3.63 -> 22.89 | E20: =26.91/0.28 -> 96.107143 | F20: =E20*D20 -> 2199.8925 | G20: 25 | H20: 41797
A21: 1 | B21: Trappe de visite bois, trappe d'accès aux combles bois et bloc-gaine ou façade de gaine technique bois (avec huisserie bois) | C21: m2 | D21: =53.81+10.15 -> 63.96 | E21: =43.24/0.28 -> 154.42857 | F21: =E21*D21 -> 9877.2514 | G21: 25 | H21: 41799
A22: 1 | B22: Panneaux de fibres MDF (medium-density fibreboard) utilisés en milieu sec ignifuges bruts [épaisseur 19 mm, jusqu'à 25 mm] (v.1.1) | C22: m2 | D22: =89.17+16.83 -> 106 | E22: =4.87/0.28 -> 17.392857 | F22: =E22*D22 -> 1843.6429 | G22: 100 | H22: 28977
A23: 1 | B23: Doublissimo® 2.55 13+80 mm R = 2,55 K.m²/W | C23: m2 | D23: =244.57+46.15 -> 290.72 | E23: =0.168/0.28 -> 0.6 | F23: =E23*D23 -> 174.432 | G23: 50 | H23: 35558
A24: 1 | B24: Plaque de plâtre Placoplatre® BA 18S Marine | C24: m2 | D24: =368.29+1951.71 -> 2320 | E24: =0.174/0.28 -> 0.62142857 | F24: =E24*D24 -> 1441.7143 | G24: 50 | H24: 34266
A25: 1 | B25: Panneau d’isolation en mousse rigide de polyuréthane EUROTHANE AUTOPRO SI – EUROTAN – EUROSOL - IP PIR 022 - EUROTOIT - Epaisseur [56-61] mm - R= [2.60-2.80] m².K/W (hors accessoires de pose | C25: m2 | D25: =173.3+32.7 -> 206 | E25: =0.088/0.28 -> 0.31428571 | F25: =E25*D25 -> 64.742857 | G25: 50 | H25: 47430
A26: 1 | B26: KNAUF INSULATION Laine de Verre ECOSE TP 238 140 mm (hors accessoires de pose) (v.1.1) | C26: m2 | D26: =975.85+20.17+3.81 -> 999.83 | E26: =0.123/0.28 -> 0.43928571 | F26: =E26*D26 -> 439.21104 | G26: 50 | H26: 33290
A27: 1 | B27: Porte de placard coulissante en bois [ép. 10mm] [Gestion durable] - DONNEE ENVIRONNEMENTALE PAR DEFAUT (v.1.1) | C27: m2 | D27: =221.68+41.83 -> 263.51 | E27: =3.13/0.28 -> 11.178571 | F27: =E27*D27 -> 2945.6654 | G27: 15 | H27: DED - 29397
A28: 1 | B28: Panneaux de particules de type p2 (panneaux pour agencements intérieurs utilisés en milieu sec) surfacés mélaminés, épaisseur jusqu’à 25mm, fabriqués par armor panneaux, swiss krono sas, cf2p, kronospan | C28: m2 | D28: =359.21+67.79 -> 427 | E28: =4.607/0.28 -> 16.453571 | F28: =E28*D28 -> 7025.675 | G28: 50 | H28: 47079
A29: 1 | B29: Panneaux de particules de type p3 (panneaux non travaillants utilisés en milieu humide) surfacés mélaminés, épaisseur jusqu’à 28mm, fabriqués par swiss krono sas, kronospan | C29: m2 | D29: =376.88+71.12 -> 448 | E29: =5.386/0.28 -> 19.235714 | F29: =E29*D29 -> 8617.6 | G29: 50 | H29: 47069
A30: 1 | B30: Bardages en lames de bois de France, toutes essences, toutes configurations | C30: m2 | D30: =1457.05+274.95 -> 1732 | E30: =5.4/0.28 -> 19.285714 | F30: =E30*D30 -> 33402.857 | G30: 50 | H30: 30446
A31: 1 | B31: Mortiers de réparation de béton, de calage, de scellement et de protection des armatures à base de liant hydraulique | C31: kg | D31: =3163.68+60.64+16765.32 -> 19989.64 | E31: =0.00237/0.28 -> 0.0084642857 | F31: =E31*D31 -> 169.19802 | G31: 100 | H31: 35841
A32: 1 | B32: Fenêtres et portes-fenêtres mixtes bois – aluminium double vitrage ou triple vitrage | C32: m2 | D32: =420.63+79.37 -> 500 | E32: =3.77/0.28 -> 13.464286 | F32: =E32*D32 -> 6732.1429 | G32: 30 | H32: 44079
A33: 1 | B33: Bardages en bois issus de forêts gérées durablement, traités et finis, de toutes provenances et fabriqués en France (v.1.1) | C33: m2 | D33: =84.13+15.87 -> 100 | E33: =4.42/0.28 -> 15.785714 | F33: =E33*D33 -> 1578.5714 | G33: 50 | H33: 29966
A34: 1 | B34: Plinthe en bois reconstitué | C34: ml | D34: =2798.01+527.99 -> 3326 | E34: =0.47/0.28 -> 1.6785714 | F34: =E34*D34 -> 5582.9286 | G34: 30 | H34: DED - 28773
A35: 1 | B35: Revêtements de sol stratifiés d’épaisseur entre 7 mm et 12 mm (v.1.1) | C35: m2 | D35: =2254.56+424.44 -> 2679 | E35: =3.12/0.28 -> 11.142857 | F35: =E35*D35 -> 29851.714 | G35: 20 | H35: 34478
A36: 1 | B36: Baignoire en acrylique de dimensions 160 x 70cm à 180 x 80cm et ses pieds sans robinetterie | C36: UF | D36: =23.56+4.44 -> 28 | E36: =0.61/0.28 -> 2.1785714 | F36: =E36*D36 -> 61 | G36: 20 | H36: 45285
A37: 1 | B37: Placoplatre BA13 | C37: m2 | D37: =1143.59+215.8+520.72+96.26 -> 1976.37 | E37: =0.167/0.28 -> 0.59642857 | F37: =E37*D37 -> 1178.7635 | G37: 50 | H37: 34919
A38: 1 | B38: Placomarine BA13 | C38: m2 | D38: =1018.87+192.26 -> 1211.13 | E38: =0.167/0.28 -> 0.59642857 | F38: =E38*D38 -> 722.35254 | G38: 50 | H38: 34257
A39: 1 | B39: Placoflam BA 13 | C39: m2 | D39: =191.37+36.11 -> 227.48 | E39: =0.164/0.28 -> 0.58571429 | F39: =E39*D39 -> 133.23829 | G39: 50 | H39: 39033
A40: 2 | B40: Panneaux CLT HEXAPLI (p. 12 RE2020) | C40: m3 | D40: =71.41+39.59 -> 111 | E40: =240.14/0.28 -> 857.64286 | F40: =E40*D40 -> 95198.357 | G40: 100 | H40: 41753
A41: 2 | B41: MOB avec montant d'une largeur de 145 mm, non isolé | C41: m2 | D41: =570.63+316.37 -> 887 | E41: =6.53/0.28 -> 23.321429 | F41: =E41*D41 -> 20686.107 | G41: 100 | H41: 41806
A42: 2 | B42: Fibraroc A2 35 200mm & Fibraroc A2 35 FC/Typ3 200mm (v.1.6) | C42: m2 | D42: =6.8+3.77 -> 10.57 | E42: =1.216/0.28 -> 4.3428571 | F42: =E42*D42 -> 45.904 | G42: 50 | H42: 35900
A43: 2 | B43: Panneau d’isolation de laine de bois complexé avec un panneau de laine de roche et un panneau de PSE : FIBROTHERM ULTRA FEU FM® 180 mm d’épaisseur, R = 5,30 m².K/W (hors accessoires de pose) (v.1.2) | C43: m2 | D43: =44.86+24.87 -> 69.73 | E43: =1.282/0.28 -> 4.5785714 | F43: =E43*D43 -> 319.26379 | G43: 50 | H43: 41874
A44: 2 | B44: Panneau d’isolation de laine de bois complexé avec un panneau de PSE : FIBROTHERM ULTRA FM® 160 mm d’épaisseur, R = 4,65 m².K/W (hors accessoires de pose) | C44: m2 | D44: =155.04+85.96 -> 241 | E44: =2.564/0.28 -> 9.1571429 | F44: =E44*D44 -> 2206.8714 | G44: 50 | H44: 41973
A45: 2 | B45: Placoplatre BA13 | C45: m2 | D45: =623.15+823.52+345.48+456.57 -> 2248.72 | E45: =0.167/0.28 -> 0.59642857 | F45: =E45*D45 -> 1341.2009 | G45: 50 | H45: 34919
A46: 2 | B46: Placomarine BA13 | C46: m2 | D46: =697.68+386.8 -> 1084.48 | E46: =0.167/0.28 -> 0.59642857 | F46: =E46*D46 -> 646.81486 | G46: 50 | H46: 34257
A47: 2 | B47: Placoflam BA 13 | C47: m2 | D47: =153.58+85.15 -> 238.73 | E47: =0.164/0.28 -> 0.58571429 | F47: =E47*D47 -> 139.82757 | G47: 50 | H47: 39033
A48: 2 | B48: KNAUF INSULATION Laine de Verre ECOSE TP 238 45 mm R=1,40 m².K/W (hors accessoires de pose) | C48: m2 | D48: =505.77+559.7+280.4+310.3+19.65 -> 1675.82 | E48: =0.06/0.28 -> 0.21428571 | F48: =E48*D48 -> 359.10429 | G48: 50 | H48: 38998
A49: 2 | B49: Bloc-Porte technique non tôlé sur huisserie métallique (v.1.2) | C49: m2 | D49: =53.7+29.77 -> 83.47 | E49: =5.87/0.28 -> 20.964286 | F49: =E49*D49 -> 1749.8889 | G49: 30 | H49: 29577
A50: 2 | B50: Bloc-Porte Bois de communication avec huisserie Bois ou huisserie métallique | C50: m2 | D50: =191.18+105.99 -> 297.17 | E50: =8.05/0.28 -> 28.75 | F50: =E50*D50 -> 8543.6375 | G50: 30 | H50: 46692
A51: 2 | B51: Bloc-porte bois technique (avec huisserie métallique) | C51: m2 | D51: =27.97+15.55 -> 43.52 | E51: =26.91/0.28 -> 96.107143 | F51: =E51*D51 -> 4182.5829 | G51: 25 | H51: 41797
A52: 2 | B52: Trappe de visite bois, trappe d'accès aux combles bois et bloc-gaine ou façade de gaine technique bois (avec huisserie bois) | C52: m2 | D52: =53.48+29.65 -> 83.13 | E52: =43.24/0.28 -> 154.42857 | F52: =E52*D52 -> 12837.647 | G52: 25 | H52: 41799
A53: 2 | B53: Panneaux de fibres MDF (medium-density fibreboard) utilisés en milieu sec ignifuges bruts [épaisseur 19 mm, jusqu'à 25 mm] (v.1.1) | C53: m2 | D53: =73.34+40.66 -> 114 | E53: =4.87/0.28 -> 17.392857 | F53: =E53*D53 -> 1982.7857 | G53: 100 | H53: 28977
A54: 2 | B54: Doublissimo® 2.55 13+80 mm R = 2,55 K.m²/W | C54: m2 | D54: =249.36+138.25 -> 387.61 | E54: =0.168/0.28 -> 0.6 | F54: =E54*D54 -> 232.566 | G54: 50 | H54: 35558
A55: 2 | B55: Plaque de plâtre Placoplatre® BA 18S Marine | C55: m2 | D55: =1119.39+620.61 -> 1740 | E55: =0.174/0.28 -> 0.62142857 | F55: =E55*D55 -> 1081.2857 | G55: 50 | H55: 34266
A56: 2 | B56: KNAUF INSULATION Laine de Verre ECOSE TP 238 140 mm (hors accessoires de pose) (v.1.1) | C56: m2 | D56: =35.44 -> 35.44 | E56: =0.123/0.28 -> 0.43928571 | F56: =E56*D56 -> 15.568286 | G56: 50 | H56: 33290
A57: 2 | B57: Dalle Gyptone® Activ'Air® Line 4 10 mm (hors ossatures) | C57: m2 | D57: =16.08+8.92 -> 25 | E57: =0.188/0.28 -> 0.67142857 | F57: =E57*D57 -> 16.785714 | G57: 50 | H57: 34422
A58: 2 | B58: Armstrong Sahara 15mm | C58: m2 | D58: =127.38+70.62 -> 198 | E58: =0.191/0.28 -> 0.68214286 | F58: =E58*D58 -> 135.06429 | G58: 50 | H58: 33323
A59: 2 | B59: Porte de placard coulissante en bois [ép. 10mm] [Gestion durable] - DONNEE ENVIRONNEMENTALE PAR DEFAUT (v.1.1) | C59: m2 | D59: =124.71+69.14 -> 193.85 | E59: =3.13/0.28 -> 11.178571 | F59: =E59*D59 -> 2166.9661 | G59: 15 | H59: DED - 29397
A60: 2 | B60: Panneaux de particules de type p2 (panneaux pour agencements intérieurs utilisés en milieu sec) surfacés mélaminés, épaisseur jusqu’à 25mm, fabriqués par armor panneaux, swiss krono sas, cf2p, kronospan | C60: m2 | D60: =162.76+90.24 -> 253 | E60: =4.607/0.28 -> 16.453571 | F60: =E60*D60 -> 4162.7536 | G60: 50 | H60: 47079
A61: 2 | B61: Panneaux de particules de type p3 (panneaux non travaillants utilisés en milieu humide) surfacés mélaminés, épaisseur jusqu’à 28mm, fabriqués par swiss krono sas, kronospan | C61: m2 | D61: =260.55+144.45 -> 405 | E61: =5.386/0.28 -> 19.235714 | F61: =E61*D61 -> 7790.4643 | G61: 50 | H61: 47069
A62: 2 | B62: Bardages en lames de bois de France, toutes essences, toutes configurations | C62: m2 | D62: =831.83+461.17 -> 1293 | E62: =5.4/0.28 -> 19.285714 | F62: =E62*D62 -> 24936.429 | G62: 50 | H62: 30446
A63: 2 | B63: Mortiers de réparation de béton, de calage, de scellement et de protection des armatures à base de liant hydraulique | C63: kg | D63: =1402.46+777.54+12474.82+6916.18 -> 21571 | E63: =0.00237/0.28 -> 0.0084642857 | F63: =E63*D63 -> 182.58311 | G63: 100 | H63: 35841
A64: 2 | B64: Fenêtres et portes-fenêtres mixtes bois – aluminium double vitrage ou triple vitrage | C64: m2 | D64: =305.58+169.42 -> 475 | E64: =3.77/0.28 -> 13.464286 | F64: =E64*D64 -> 6395.5357 | G64: 30 | H64: 44079
A65: 2 | B65: Plinthe en bois reconstitué | C65: ml | D65: =1682.31+932.69 -> 2615 | E65: =0.47/0.28 -> 1.6785714 | F65: =E65*D65 -> 4389.4643 | G65: 30 | H65: DED - 28773
A66: 2 | B66: Revêtements de sol stratifiés d’épaisseur entre 7 mm et 12 mm (v.1.1) | C66: m2 | D66: =1535.63+851.37 -> 2387 | E66: =3.12/0.28 -> 11.142857 | F66: =E66*D66 -> 26598 | G66: 20 | H66: 34478
A67: 2 | B67: Baignoire en acrylique de dimensions 160 x 70cm à 180 x 80cm et ses pieds sans robinetterie | C67: UF | D67: =18.01+9.99 -> 28 | E67: =0.61/0.28 -> 2.1785714 | F67: =E67*D67 -> 61 | G67: 20 | H67: 45285
F68: =E68*D68 -> 0
F69: =E69*D69 -> 0
F70: =E70*D70 -> 0
F71: =E71*D71 -> 0
F72: =E72*D72 -> 0
F73: =E73*D73 -> 0
F74: =E74*D74 -> 0
F75: =E75*D75 -> 0
F76: =E76*D76 -> 0
F77: =E77*D77 -> 0
F78: =E78*D78 -> 0
F79: =E79*D79 -> 0
... F104: =E104*D104 -> 0
B105: TOTAL | F105: =SUM(F13:F104) -> 441833.2

Sheet Calculs
A1: 1/ Calcul du stock de CO2 total bâtiments (Stock C *44/12)
A3: StockCO2bat (tCO2eq) | B3: ='Données projet'!C3 -> 485.15867 | D3: Passage de C à CO2 | E3: =(2*16+12)/12 -> 3.6666667 | F3: (44/12)
A5: 2/ Calcul du scénario de référence
A7: Année du projet (livraison) | B7: ='Données projet'!C6 -> 2027
A8: StockCO2𝑟𝑒𝑓(2015) (kgCO2e/m²SDP) | B8: =IF(Général!C4="Tertiaire ",30,20) -> 20
A9: StockCO2𝑟𝑒𝑓(2035) (kgCO2e/m²SDP) | B9: =IF(Général!C4="Tertiaire ",50,40) -> 40
A11: ="StockCO2𝑟𝑒f (" &B7&") (tCO2e/m²SDP)" -> StockCO2𝑟𝑒f (2027) (tCO2e/m²SDP) | B11: =((B8)+((B7-2015)/(2035-2015))*(B9-B8))/1000 -> 0.032
A12: 𝑆𝑡𝑜𝑐𝑘𝐶𝑂2𝑏𝑎𝑡, 𝑟𝑒𝑓 (tCO2e) | B12: =B11*'Données projet'!C8 -> 192
A14: 3/ Stock de CO2 additionnel du projet
A16: Δ𝑆𝑡𝑜𝑐𝑘𝐶𝑂2𝑏𝑎𝑡 | B16: =B3-B12 -> 293.15867
A18: 4/ Calcul du coefficient de rabais CDV
A20: Calcul du 𝐶𝐷𝑉 | B20: =SUMPRODUCT(C23:C114,D23:D114)/100 -> 0.65603297
A22: Matériaux stockeurs du projet | B22: Stock de CO2e projet (KgCO2e) | C22: % | D22: DVP (Durée de vie du produit)
A23: ='Données projet'!B13 -> Panneaux CLT HEXAPLI (p. 12 RE2020) | B23: ='Données projet'!F13 -> 66295.793 | C23: =B23/$B$115 -> 0.15004711 | D23: ='Données projet'!G13 -> 100
A24: ='Données projet'!B14 -> MOB avec montant d'une largeur de 145 mm, non isolé | B24: ='Données projet'!F14 -> 16464.929 | C24: =B24/$B$115 -> 0.037265033 | D24: ='Données projet'!G14 -> 100
A25: ='Données projet'!B15 -> Escalier en bois feuillu européen | B25: ='Données projet'!F15 -> 4680 | C25: =B25/$B$115 -> 0.010592233 | D25: ='Données projet'!G15 -> 100
A26: ='Données projet'!B16 -> Panneau d’isolation de laine de bois complexé avec un panneau de laine de roche et un panneau de PSE : FIBROTHERM ULTRA FEU FM® 180 mm d’épaisseur, R = 5,30 m².K/W (hors accessoires de pose) (v.1.2) | B26: ='Données projet'!F16 -> 1048.4013 | C26: =B26/$B$115 -> 0.0023728441 | D26: ='Données projet'!G16 -> 50
A27: ='Données projet'!B17 -> KNAUF INSULATION Laine de Verre ECOSE TP 238 45 mm R=1,40 m².K/W (hors accessoires de pose) | B27: ='Données projet'!F17 -> 411.25929 | C27: =B27/$B$115 -> 0.00093080214 | D27: ='Données projet'!G17 -> 50
A28: ='Données projet'!B18 -> Bloc-Porte technique non tôlé sur huisserie métallique (v.1.2) | B28: ='Données projet'!F18 -> 1869.3854 | C28: =B28/$B$115 -> 0.0042309753 | D28: ='Données projet'!G18 -> 30
A29: ='Données projet'!B19 -> Bloc-Porte Bois de communication avec huisserie Bois ou huisserie métallique | B29: ='Données projet'!F19 -> 8616.375 | C29: =B29/$B$115 -> 0.019501421 | D29: ='Données projet'!G19 -> 30
A30: ='Données projet'!B20 -> Bloc-porte bois technique (avec huisserie métallique) | B30: ='Données projet'!F20 -> 2199.8925 | C30: =B30/$B$115 -> 0.0049790114 | D30: ='Données projet'!G20 -> 25
A31: ='Données projet'!B21 -> Trappe de visite bois, trappe d'accès aux combles bois et bloc-gaine ou façade de gaine technique bois (avec huisserie bois) | B31: ='Données projet'!F21 -> 9877.2514 | C31: =B31/$B$115 -> 0.022355159 | D31: ='Données projet'!G21 -> 25
A32: ='Données projet'!B22 -> Panneaux de fibres MDF (medium-density fibreboard) utilisés en milieu sec ignifuges bruts [épaisseur 19 mm, jusqu'à 25 mm] (v.1.1) | B32: ='Données projet'!F22 -> 1843.6429 | C32: =B32/$B$115 -> 0.0041727124 | D32: ='Données projet'!G22 -> 100
A33: ='Données projet'!B23 -> Doublissimo® 2.55 13+80 mm R = 2,55 K.m²/W | B33: ='Données projet'!F23 -> 174.432 | C33: =B33/$B$115 -> 0.00039479152 | D33: ='Données projet'!G23 -> 50
A34: ='Données projet'!B24 -> Plaque de plâtre Placoplatre® BA 18S Marine | B34: ='Données projet'!F24 -> 1441.7143 | C34: =B34/$B$115 -> 0.0032630284 | D34: ='Données projet'!G24 -> 50
... A114: ='Données projet'!B104 -> 0 | B114: ='Données projet'!F104 -> 0 | C114: =B114/$B$115 -> 0 | D114: ='Données projet'!G104 -> 0
A115: Total | B115: =SUM(B23:B114) -> 441833.2 | C115: =SUM(C23:C114) -> 1

Sheet Recapitulatif
A3: 5/ Calcul de la Réduction d'Emissions Anticipées
A5: 𝑅𝐸𝐴𝑔é𝑛é𝑟𝑎𝑏𝑙𝑒𝑠 (tCO2e) | B5: =Calculs!B16*Calculs!B20 -> 192.32175
A6: Rabais risque de non permanence | B6: 0.1
A8: REAgénérées après rabais (tCO2e) | B8: =B5*(1-B6) -> 173.08958
A9: soit (tCO2e/m²Surface de réf) | B9: =B8/'Données projet'!C9 -> 0.030548813

Sheet données-listes
B1: Numéro de département | C1: Département | D1: Région | F1: Régions
B2: 01 | C2: Ain | D2: Auvergne-Rhône-Alpes | F2: Auvergne-Rhône-Alpes
B3: 02 | C3: Aisne | D3: Hauts-de-France | F3: Bourgogne-Franche-Comté
B4: 03 | C4: Allier | D4: Auvergne-Rhône-Alpes | F4: Bretagne
B5: 04 | C5: Alpes-de-Haute-Provence | D5: Provence-Alpes-Côte d'Azur | F5: Centre-Val de Loire
B6: 05 | C6: Hautes-Alpes | D6: Provence-Alpes-Côte d'Azur | F6: Corse
B7: 06 | C7: Alpes-Maritimes | D7: Provence-Alpes-Côte d'Azur | F7: Grand Est
B8: 07 | C8: Ardèche | D8: Auvergne-Rhône-Alpes | F8: Hauts-de-France
B9: 08 | C9: Ardennes | D9: Grand Est | F9: Île-de-France
B10: 09 | C10: Ariège | D10: Occitanie | F10: Normandie
B11: 10 | C11: Aube | D11: Grand Est | F11: Nouvelle-Aquitaine
B12: 11 | C12: Aude | D12: Occitanie | F12: Occitanie
B13: 12 | C13: Aveyron | D13: Occitanie | F13: Pays de la Loire
B14: 13 | C14: Bouches-du-Rhône | D14: Provence-Alpes-Côte d'Azur | F14: Provence-Alpes-Côte d'Azur
B15: 14 | C15: Calvados | D15: Normandie | F15: Guadeloupe
B16: 15 | C16: Cantal | D16: Auvergne-Rhône-Alpes | F16: Martinique
B17: 16 | C17: Charente | D17: Nouvelle-Aquitaine | F17: Guyane
B18: 17 | C18: Charente-Maritime | D18: Nouvelle-Aquitaine | F18: La Réunion
B19: 18 | C19: Cher | D19: Centre-Val de Loire | F19: Mayotte
B20: 19 | C20: Corrèze | D20: Nouvelle-Aquitaine
B21: 2A | C21: Corse-du-Sud | D21: Corse
B22: 2B | C22: Haute-Corse | D22: Corse
B23: 21 | C23: Côte-d'Or | D23: Bourgogne-Franche-Comté
B24: 22 | C24: Côtes d'Armor | D24: Bretagne
B25: 23 | C25: Creuse | D25: Nouvelle-Aquitaine
B26: 24 | C26: Dordogne | D26: Nouvelle-Aquitaine
B27: 25 | C27: Doubs | D27: Bourgogne-Franche-Comté
B28: 26 | C28: Drôme | D28: Auvergne-Rhône-Alpes
B29: 27 | C29: Eure | D29: Normandie
B30: 28 | C30: Eure-et-Loir | D30: Centre-Val de Loire
B31: 29 | C31: Finistère | D31: Bretagne
B32: 30 | C32: Gard | D32: Occitanie
B33: 31 | C33: Haute-Garonne | D33: Occitanie
B34: 32 | C34: Gers | D34: Occitanie
... B102: 976 | C102: Mayotte | D102: Mayotte
